BEGIN:VCALENDAR
VERSION:2.0
PRODID:-//EASE - ECPv6.15.18//NONSGML v1.0//EN
CALSCALE:GREGORIAN
METHOD:PUBLISH
X-ORIGINAL-URL:https://ease.gr/en/
X-WR-CALDESC:Events for EASE
REFRESH-INTERVAL;VALUE=DURATION:PT1H
X-Robots-Tag:noindex
X-PUBLISHED-TTL:PT1H
BEGIN:VTIMEZONE
TZID:UTC
BEGIN:STANDARD
TZOFFSETFROM:+0000
TZOFFSETTO:+0000
TZNAME:UTC
DTSTART:20230101T000000
END:STANDARD
END:VTIMEZONE
BEGIN:VEVENT
DTSTART;TZID=UTC:20241205T203000
DTEND;TZID=UTC:20241206T040000
DTSTAMP:20260422T085057
CREATED:20241107T121012Z
LAST-MODIFIED:20260317T142542Z
UID:13665-1733430600-1733457600@ease.gr
SUMMARY:Christmas Party ΕΑΣΕ | Let's Dance Together!
DESCRIPTION:Events		\n				\n				\n					\n		\n							\n		\n				\n						\n					\n			\n								\n				\n			NEW FILM | Avant Premiere for ACEO members\n		\n				\n				\n				\n							The Action Team “The Happenings Hub” organizes the Avant Premiere of the film “The Devil Wears Prada II” at the Gold Class theatres of Village Cinemas\, at The Mall Athens. \nThe event is addressed to ACEO members and their guests. \nA limited number of seats is available on a first-come\, first-served basis. \n						\n				\n					\n		\n				\n			\n								\n				\n			The Devil Wears Prada II\n		\n				\n				\n				\n			30/04/202618:00 - 20:00  		\n				\n				\n				\n			17:00 Networking		\n				\n				\n				\n			Village Cinemas\, The Mall Athens
URL:https://ease.gr/en/event/christmas-party-ease-lets-dance-together/
LOCATION:POLO Club
CATEGORIES:Social and Cultural Events
ATTACH;FMTTYPE=image/png:https://ease.gr/wp-content/uploads/2024/11/XMAS_THUMBNAIL_532X328.png
END:VEVENT
END:VCALENDAR