BEGIN:VCALENDAR
VERSION:2.0
PRODID:-//EASE - ECPv6.15.18//NONSGML v1.0//EN
CALSCALE:GREGORIAN
METHOD:PUBLISH
X-WR-CALNAME:EASE
X-ORIGINAL-URL:https://ease.gr/en/
X-WR-CALDESC:Events for EASE
REFRESH-INTERVAL;VALUE=DURATION:PT1H
X-Robots-Tag:noindex
X-PUBLISHED-TTL:PT1H
BEGIN:VTIMEZONE
TZID:UTC
BEGIN:STANDARD
TZOFFSETFROM:+0000
TZOFFSETTO:+0000
TZNAME:UTC
DTSTART:20240101T000000
END:STANDARD
END:VTIMEZONE
BEGIN:VEVENT
DTSTART;TZID=UTC:20251205T210000
DTEND;TZID=UTC:20251205T210000
DTSTAMP:20260421T150501
CREATED:20251021T123834Z
LAST-MODIFIED:20260317T140905Z
UID:17179-1764968400-1764968400@ease.gr
SUMMARY:EASE Christmas Party | Let's Dance Together
DESCRIPTION:Events		\n				\n				\n					\n		\n							\n		\n				\n						\n					\n			\n								\n				\n			NEW FILM | Avant Premiere for ACEO members\n		\n				\n				\n				\n							The Action Team “The Happenings Hub” organizes the Avant Premiere of the film “The Devil Wears Prada II” at the Gold Class theatres of Village Cinemas\, at The Mall Athens. \nThe event is addressed to ACEO members and their guests. \nA limited number of seats is available on a first-come\, first-served basis. \n						\n				\n					\n		\n				\n			\n								\n				\n			The Devil Wears Prada II\n		\n				\n				\n				\n			30/04/202618:00 - 20:00  		\n				\n				\n				\n			17:00 Networking		\n				\n				\n				\n			Village Cinemas\, The Mall Athens
URL:https://ease.gr/en/event/ease-christmas-party-lets-dance-together/
LOCATION:CASH\, Δηλιγιάννη 54\, Κηφισιά\, 14562\, Greece
CATEGORIES:Social and Cultural Events
ATTACH;FMTTYPE=image/jpeg:https://ease.gr/wp-content/uploads/2025/10/xmas_THUMBNAIL_532X328-01.jpg
END:VEVENT
END:VCALENDAR