BEGIN:VCALENDAR
VERSION:2.0
PRODID:-//EASE - ECPv6.15.18//NONSGML v1.0//EN
CALSCALE:GREGORIAN
METHOD:PUBLISH
X-ORIGINAL-URL:https://ease.gr/en/
X-WR-CALDESC:Events for EASE
REFRESH-INTERVAL;VALUE=DURATION:PT1H
X-Robots-Tag:noindex
X-PUBLISHED-TTL:PT1H
BEGIN:VTIMEZONE
TZID:UTC
BEGIN:STANDARD
TZOFFSETFROM:+0000
TZOFFSETTO:+0000
TZNAME:UTC
DTSTART:20250101T000000
END:STANDARD
END:VTIMEZONE
BEGIN:VEVENT
DTSTART;TZID=UTC:20260515T100000
DTEND;TZID=UTC:20260516T183000
DTSTAMP:20260423T013752
CREATED:20260311T122659Z
LAST-MODIFIED:20260311T124001Z
UID:18540-1778839200-1778956200@ease.gr
SUMMARY:37th Leadership Conference
DESCRIPTION:ESG Best Practices		\n				\n					\n		\n							\n		\n				\n						\n					\n			\n								\n				\n			\nEvents		\n				\n				\n					\n		\n							\n		\n				\n						\n					\n			\n								\n				\n			ESG Best Practices: Innovation\, Sustainability & Business Performance		\n				\n				\n				\n							The ESG in Action Task Force of ACEO organized an event aimed at promoting knowledge about ESG practices and benefits\, while empowering ACEO members to adopt and effectively integrate them. \nThe goal of this event was to highlight best practices from the Greek market—both from listed and small-to-medium enterprises—that offer direct and practical insights for our members’ companies. \nThe presentations focused on the real value of ESG as a framework that integrates sustainability and supports business strategies and goals. At the same time\, the guest speakers shared their experiences on how their companies implemented ESG practices in their operations\, as well as the main business objectives behind these changes.  \nEvent Agenda17:30-18:00 | Registration \n18:00-18:10 | Opening Remarks: Valeria Tsami\, Head of the ESG Task Force\, Vice President – Executive Director\, Focus Bari S.A. \n18:10-19:40 | Short presentations by guest speakers \n19:40-20:00 | Panel Discussion | Q&A \nModerator: Elia Liataki\, Member of the ESG Task Force\, General Manager\, IKON/Omnicom PR Group\, BBDO Communication Group \n						\n				\n					\n		\n				\n			\n								\n				\n			ESG Best Practices		\n				\n				\n				\n			23/09/202517:30 - 20:00		\n				\n				\n				\n			Live Event		\n				\n				\n				\n			OTEAcademy		\n				\n					\n		\n							\n		\n				\n						\n					\n			\n								\n				\n			Speaker		\n				\n				\n				\n					\n\n\nΧριστίνα Δούμα\nlearn more\n\n\nΈλενα Αθουσάκη\nlearn more\n\n\nΒασίλης Βλαχογιάννης\nlearn more\n\n\nΓιώργος Δελατόλας\nlearn more\n\n\nΣτέλιος Κακουλίδης\nlearn more\n\n\nΡηνέτα Μήτση\nlearn more\n\n\nΈλια Λιατάκη\nlearn more
URL:https://ease.gr/en/event/37th-leadership-conference/
LOCATION:Μέγαρο Μουσικής Αθηνών
CATEGORIES:Leadership Conferences
ATTACH;FMTTYPE=image/jpeg:https://ease.gr/wp-content/uploads/2026/01/SYNEDRIO_THUMBNAIL_532X328-01.jpg
END:VEVENT
END:VCALENDAR