BEGIN:VCALENDAR
VERSION:2.0
PRODID:-//EASE - ECPv6.15.18//NONSGML v1.0//EN
CALSCALE:GREGORIAN
METHOD:PUBLISH
X-ORIGINAL-URL:https://ease.gr/en/
X-WR-CALDESC:Events for EASE
REFRESH-INTERVAL;VALUE=DURATION:PT1H
X-Robots-Tag:noindex
X-PUBLISHED-TTL:PT1H
BEGIN:VTIMEZONE
TZID:Europe/Athens
BEGIN:DAYLIGHT
TZOFFSETFROM:+0200
TZOFFSETTO:+0300
TZNAME:EEST
DTSTART:20240331T010000
END:DAYLIGHT
BEGIN:STANDARD
TZOFFSETFROM:+0300
TZOFFSETTO:+0200
TZNAME:EET
DTSTART:20241027T010000
END:STANDARD
BEGIN:DAYLIGHT
TZOFFSETFROM:+0200
TZOFFSETTO:+0300
TZNAME:EEST
DTSTART:20250330T010000
END:DAYLIGHT
BEGIN:STANDARD
TZOFFSETFROM:+0300
TZOFFSETTO:+0200
TZNAME:EET
DTSTART:20251026T010000
END:STANDARD
BEGIN:DAYLIGHT
TZOFFSETFROM:+0200
TZOFFSETTO:+0300
TZNAME:EEST
DTSTART:20260329T010000
END:DAYLIGHT
BEGIN:STANDARD
TZOFFSETFROM:+0300
TZOFFSETTO:+0200
TZNAME:EET
DTSTART:20261025T010000
END:STANDARD
END:VTIMEZONE
BEGIN:VTIMEZONE
TZID:UTC
BEGIN:STANDARD
TZOFFSETFROM:+0000
TZOFFSETTO:+0000
TZNAME:UTC
DTSTART:20240101T000000
END:STANDARD
END:VTIMEZONE
BEGIN:VEVENT
DTSTART;TZID=Europe/Athens:20250115T090000
DTEND;TZID=Europe/Athens:20250115T120000
DTSTAMP:20260422T054602
CREATED:20240916T140147Z
LAST-MODIFIED:20250128T161920Z
UID:12965-1736931600-1736942400@ease.gr
SUMMARY:Private tour at Loumidis’ production line
DESCRIPTION:Events		\n				\n				\n					\n		\n							\n		\n				\n						\n					\n			\n								\n				\n			NEW FILM | Avant Premiere for ACEO members\n		\n				\n				\n				\n							The Action Team “The Happenings Hub” organizes the Avant Premiere of the film “The Devil Wears Prada II” at the Gold Class theatres of Village Cinemas\, at The Mall Athens. \nThe event is addressed to ACEO members and their guests. \nA limited number of seats is available on a first-come\, first-served basis. \n						\n				\n					\n		\n				\n			\n								\n				\n			The Devil Wears Prada II\n		\n				\n				\n				\n			30/04/202618:00 - 20:00  		\n				\n				\n				\n			17:00 Networking		\n				\n				\n				\n			Village Cinemas\, The Mall Athens
URL:https://ease.gr/en/event/test/
LOCATION:Εργοστάσιο Λουμίδη\, Οινόφυτα\, 55ο χλμ Παλαιάς Εθνικής Οδού Αθηνών - Λαμίας\, Οινόφυτα\, Βοιωτία\, 32009\, Greece
CATEGORIES:Leadership Meetings
ATTACH;FMTTYPE=image/png:https://ease.gr/wp-content/uploads/2024/09/loumidis_THUMBNAIL_532X328.png
END:VEVENT
BEGIN:VEVENT
DTSTART;TZID=UTC:20250129T193000
DTEND;TZID=UTC:20250129T230000
DTSTAMP:20260422T054602
CREATED:20241223T124837Z
LAST-MODIFIED:20251121T100855Z
UID:14078-1738179000-1738191600@ease.gr
SUMMARY:ACEO Cutting Pie 2025
DESCRIPTION:Events		\n				\n				\n					\n		\n							\n		\n				\n						\n					\n			\n								\n				\n			NEW FILM | Avant Premiere for ACEO members\n		\n				\n				\n				\n							The Action Team “The Happenings Hub” organizes the Avant Premiere of the film “The Devil Wears Prada II” at the Gold Class theatres of Village Cinemas\, at The Mall Athens. \nThe event is addressed to ACEO members and their guests. \nA limited number of seats is available on a first-come\, first-served basis. \n						\n				\n					\n		\n				\n			\n								\n				\n			The Devil Wears Prada II\n		\n				\n				\n				\n			30/04/202618:00 - 20:00  		\n				\n				\n				\n			17:00 Networking		\n				\n				\n				\n			Village Cinemas\, The Mall Athens
URL:https://ease.gr/en/event/exclusive-wine-series-2/
LOCATION:Αίγλη Ζαππείου
CATEGORIES:Social and Cultural Events
ATTACH;FMTTYPE=image/jpeg:https://ease.gr/wp-content/uploads/2024/12/STD_PITA-01-thumbnail.jpg
END:VEVENT
END:VCALENDAR