BEGIN:VCALENDAR
VERSION:2.0
PRODID:-//EASE - ECPv6.15.18//NONSGML v1.0//EN
CALSCALE:GREGORIAN
METHOD:PUBLISH
X-WR-CALNAME:EASE
X-ORIGINAL-URL:https://ease.gr/en/
X-WR-CALDESC:Events for EASE
REFRESH-INTERVAL;VALUE=DURATION:PT1H
X-Robots-Tag:noindex
X-PUBLISHED-TTL:PT1H
BEGIN:VTIMEZONE
TZID:UTC
BEGIN:STANDARD
TZOFFSETFROM:+0000
TZOFFSETTO:+0000
TZNAME:UTC
DTSTART:20240101T000000
END:STANDARD
END:VTIMEZONE
BEGIN:VTIMEZONE
TZID:Europe/Athens
BEGIN:DAYLIGHT
TZOFFSETFROM:+0200
TZOFFSETTO:+0300
TZNAME:EEST
DTSTART:20240331T010000
END:DAYLIGHT
BEGIN:STANDARD
TZOFFSETFROM:+0300
TZOFFSETTO:+0200
TZNAME:EET
DTSTART:20241027T010000
END:STANDARD
BEGIN:DAYLIGHT
TZOFFSETFROM:+0200
TZOFFSETTO:+0300
TZNAME:EEST
DTSTART:20250330T010000
END:DAYLIGHT
BEGIN:STANDARD
TZOFFSETFROM:+0300
TZOFFSETTO:+0200
TZNAME:EET
DTSTART:20251026T010000
END:STANDARD
BEGIN:DAYLIGHT
TZOFFSETFROM:+0200
TZOFFSETTO:+0300
TZNAME:EEST
DTSTART:20260329T010000
END:DAYLIGHT
BEGIN:STANDARD
TZOFFSETFROM:+0300
TZOFFSETTO:+0200
TZNAME:EET
DTSTART:20261025T010000
END:STANDARD
END:VTIMEZONE
BEGIN:VEVENT
DTSTART;TZID=UTC:20250310T180000
DTEND;TZID=UTC:20250310T193000
DTSTAMP:20260422T024944
CREATED:20250224T083618Z
LAST-MODIFIED:20251025T150256Z
UID:14657-1741629600-1741635000@ease.gr
SUMMARY:In the Age of Instability: Navigating a Changing Geopolitical Map\,
DESCRIPTION:Events		\n				\n				\n					\n		\n							\n		\n				\n						\n					\n			\n								\n				\n			NEW FILM | Avant Premiere for ACEO members\n		\n				\n				\n				\n							The Action Team “The Happenings Hub” organizes the Avant Premiere of the film “The Devil Wears Prada II” at the Gold Class theatres of Village Cinemas\, at The Mall Athens. \nThe event is addressed to ACEO members and their guests. \nA limited number of seats is available on a first-come\, first-served basis. \n						\n				\n					\n		\n				\n			\n								\n				\n			The Devil Wears Prada II\n		\n				\n				\n				\n			30/04/202618:00 - 20:00  		\n				\n				\n				\n			17:00 Networking		\n				\n				\n				\n			Village Cinemas\, The Mall Athens
URL:https://ease.gr/en/event/in-the-age-of-instability-navigating-a-changing-geopolitical-map/
LOCATION:OTE Academy
CATEGORIES:Leadership Meetings
ATTACH;FMTTYPE=image/jpeg:https://ease.gr/wp-content/uploads/2025/02/pulsing2_THUMBNAIL_532X328.jpg
END:VEVENT
BEGIN:VEVENT
DTSTART;TZID=UTC:20250312T170000
DTEND;TZID=UTC:20250312T193000
DTSTAMP:20260422T024944
CREATED:20250304T113827Z
LAST-MODIFIED:20251025T150222Z
UID:14652-1741798800-1741807800@ease.gr
SUMMARY:Meet the Leader Series: "Greek Leadership: on the razor's edge!"
DESCRIPTION:Events		\n				\n				\n					\n		\n							\n		\n				\n						\n					\n			\n								\n				\n			NEW FILM | Avant Premiere for ACEO members\n		\n				\n				\n				\n							The Action Team “The Happenings Hub” organizes the Avant Premiere of the film “The Devil Wears Prada II” at the Gold Class theatres of Village Cinemas\, at The Mall Athens. \nThe event is addressed to ACEO members and their guests. \nA limited number of seats is available on a first-come\, first-served basis. \n						\n				\n					\n		\n				\n			\n								\n				\n			The Devil Wears Prada II\n		\n				\n				\n				\n			30/04/202618:00 - 20:00  		\n				\n				\n				\n			17:00 Networking		\n				\n				\n				\n			Village Cinemas\, The Mall Athens
URL:https://ease.gr/en/event/meet-the-leader-series-greek-leadership-on-the-razors-edge/
LOCATION:Γραφεία ΕΑΣΕ\, Λεωφόρος Ηρακλείου 446Α & Κωνσταντινουπόλεως 19Α\, 14122\, Greece
CATEGORIES:Leadership Meetings
ATTACH;FMTTYPE=image/jpeg:https://ease.gr/wp-content/uploads/2025/03/meet_the_leader_THUMBNAIL_532X328.jpg
END:VEVENT
BEGIN:VEVENT
DTSTART;TZID=Europe/Athens:20250313T170000
DTEND;TZID=Europe/Athens:20250313T203000
DTSTAMP:20260422T024944
CREATED:20250305T084405Z
LAST-MODIFIED:20250305T084643Z
UID:14483-1741885200-1741897800@ease.gr
SUMMARY:Black Bag | Avant Premiere exclusively for ACEO members
DESCRIPTION:Events		\n				\n				\n					\n		\n							\n		\n				\n						\n					\n			\n								\n				\n			NEW FILM | Avant Premiere for ACEO members\n		\n				\n				\n				\n							The Action Team “The Happenings Hub” organizes the Avant Premiere of the film “The Devil Wears Prada II” at the Gold Class theatres of Village Cinemas\, at The Mall Athens. \nThe event is addressed to ACEO members and their guests. \nA limited number of seats is available on a first-come\, first-served basis. \n						\n				\n					\n		\n				\n			\n								\n				\n			The Devil Wears Prada II\n		\n				\n				\n				\n			30/04/202618:00 - 20:00  		\n				\n				\n				\n			17:00 Networking		\n				\n				\n				\n			Village Cinemas\, The Mall Athens
URL:https://ease.gr/en/event/black-bag-avant-premiere-exclusively-for-aceo-members/
LOCATION:Village Cinemas at the Mall Athens
CATEGORIES:Social and Cultural Events
ATTACH;FMTTYPE=image/jpeg:https://ease.gr/wp-content/uploads/2025/03/2_INVITATION_AVANT_PREMIERE_black-box-thumbnail.jpg
END:VEVENT
BEGIN:VEVENT
DTSTART;TZID=UTC:20250319T180000
DTEND;TZID=UTC:20250319T210000
DTSTAMP:20260422T024944
CREATED:20250225T143036Z
LAST-MODIFIED:20251121T100312Z
UID:14413-1742407200-1742418000@ease.gr
SUMMARY:Exclusive Wine Series ΙΙ
DESCRIPTION:Events		\n				\n				\n					\n		\n							\n		\n				\n						\n					\n			\n								\n				\n			NEW FILM | Avant Premiere for ACEO members\n		\n				\n				\n				\n							The Action Team “The Happenings Hub” organizes the Avant Premiere of the film “The Devil Wears Prada II” at the Gold Class theatres of Village Cinemas\, at The Mall Athens. \nThe event is addressed to ACEO members and their guests. \nA limited number of seats is available on a first-come\, first-served basis. \n						\n				\n					\n		\n				\n			\n								\n				\n			The Devil Wears Prada II\n		\n				\n				\n				\n			30/04/202618:00 - 20:00  		\n				\n				\n				\n			17:00 Networking		\n				\n				\n				\n			Village Cinemas\, The Mall Athens
URL:https://ease.gr/en/event/exclusive-wine-series-3/
LOCATION:Hellenic Riding Club\, Παραδείσου 18\, Παράδεισος Αμαρουσίου\, Αθήνα\, Μαρούσι\, 15125\, Greece
CATEGORIES:Social and Cultural Events
ATTACH;FMTTYPE=image/jpeg:https://ease.gr/wp-content/uploads/2024/10/wine_tasting-07-002-Thumbnail.jpg
END:VEVENT
END:VCALENDAR