BEGIN:VCALENDAR
VERSION:2.0
PRODID:-//EASE - ECPv6.15.18//NONSGML v1.0//EN
CALSCALE:GREGORIAN
METHOD:PUBLISH
X-WR-CALNAME:EASE
X-ORIGINAL-URL:https://ease.gr/en/
X-WR-CALDESC:Events for EASE
REFRESH-INTERVAL;VALUE=DURATION:PT1H
X-Robots-Tag:noindex
X-PUBLISHED-TTL:PT1H
BEGIN:VTIMEZONE
TZID:Europe/Helsinki
BEGIN:DAYLIGHT
TZOFFSETFROM:+0200
TZOFFSETTO:+0300
TZNAME:EEST
DTSTART:20240331T010000
END:DAYLIGHT
BEGIN:STANDARD
TZOFFSETFROM:+0300
TZOFFSETTO:+0200
TZNAME:EET
DTSTART:20241027T010000
END:STANDARD
BEGIN:DAYLIGHT
TZOFFSETFROM:+0200
TZOFFSETTO:+0300
TZNAME:EEST
DTSTART:20250330T010000
END:DAYLIGHT
BEGIN:STANDARD
TZOFFSETFROM:+0300
TZOFFSETTO:+0200
TZNAME:EET
DTSTART:20251026T010000
END:STANDARD
BEGIN:DAYLIGHT
TZOFFSETFROM:+0200
TZOFFSETTO:+0300
TZNAME:EEST
DTSTART:20260329T010000
END:DAYLIGHT
BEGIN:STANDARD
TZOFFSETFROM:+0300
TZOFFSETTO:+0200
TZNAME:EET
DTSTART:20261025T010000
END:STANDARD
END:VTIMEZONE
BEGIN:VTIMEZONE
TZID:UTC
BEGIN:STANDARD
TZOFFSETFROM:+0000
TZOFFSETTO:+0000
TZNAME:UTC
DTSTART:20240101T000000
END:STANDARD
END:VTIMEZONE
BEGIN:VEVENT
DTSTART;TZID=Europe/Helsinki:20250401T173000
DTEND;TZID=Europe/Helsinki:20250401T203000
DTSTAMP:20260422T012153
CREATED:20250321T092452Z
LAST-MODIFIED:20251025T150139Z
UID:14647-1743528600-1743539400@ease.gr
SUMMARY:AI at the helm
DESCRIPTION:Events		\n				\n				\n					\n		\n							\n		\n				\n						\n					\n			\n								\n				\n			NEW FILM | Avant Premiere for ACEO members\n		\n				\n				\n				\n							The Action Team “The Happenings Hub” organizes the Avant Premiere of the film “The Devil Wears Prada II” at the Gold Class theatres of Village Cinemas\, at The Mall Athens. \nThe event is addressed to ACEO members and their guests. \nA limited number of seats is available on a first-come\, first-served basis. \n						\n				\n					\n		\n				\n			\n								\n				\n			The Devil Wears Prada II\n		\n				\n				\n				\n			30/04/202618:00 - 20:00  		\n				\n				\n				\n			17:00 Networking		\n				\n				\n				\n			Village Cinemas\, The Mall Athens
URL:https://ease.gr/en/event/ai-at-the-helm/
LOCATION:OTE Academy
CATEGORIES:Leadership Meetings
ATTACH;FMTTYPE=image/png:https://ease.gr/wp-content/uploads/2024/10/THUMBNAIL_532X328.png
END:VEVENT
BEGIN:VEVENT
DTSTART;TZID=UTC:20250410T090000
DTEND;TZID=UTC:20250411T130000
DTSTAMP:20260422T012153
CREATED:20250407T082134Z
LAST-MODIFIED:20251025T150054Z
UID:14639-1744275600-1744376400@ease.gr
SUMMARY:ACEO at Delphi Economic Forum X
DESCRIPTION:Events		\n				\n				\n					\n		\n							\n		\n				\n						\n					\n			\n								\n				\n			NEW FILM | Avant Premiere for ACEO members\n		\n				\n				\n				\n							The Action Team “The Happenings Hub” organizes the Avant Premiere of the film “The Devil Wears Prada II” at the Gold Class theatres of Village Cinemas\, at The Mall Athens. \nThe event is addressed to ACEO members and their guests. \nA limited number of seats is available on a first-come\, first-served basis. \n						\n				\n					\n		\n				\n			\n								\n				\n			The Devil Wears Prada II\n		\n				\n				\n				\n			30/04/202618:00 - 20:00  		\n				\n				\n				\n			17:00 Networking		\n				\n				\n				\n			Village Cinemas\, The Mall Athens
URL:https://ease.gr/en/event/aceo-at-delphi-economic-forum-x/
LOCATION:Delphi
CATEGORIES:Leadership Meetings
ATTACH;FMTTYPE=image/png:https://ease.gr/wp-content/uploads/2025/04/Thumbnail-.png
END:VEVENT
END:VCALENDAR