BEGIN:VCALENDAR
VERSION:2.0
PRODID:-//EASE - ECPv6.15.18//NONSGML v1.0//EN
CALSCALE:GREGORIAN
METHOD:PUBLISH
X-WR-CALNAME:EASE
X-ORIGINAL-URL:https://ease.gr
X-WR-CALDESC:Events for EASE
REFRESH-INTERVAL;VALUE=DURATION:PT1H
X-Robots-Tag:noindex
X-PUBLISHED-TTL:PT1H
BEGIN:VTIMEZONE
TZID:Europe/Moscow
BEGIN:STANDARD
TZOFFSETFROM:+0300
TZOFFSETTO:+0300
TZNAME:MSK
DTSTART:20230101T000000
END:STANDARD
END:VTIMEZONE
BEGIN:VEVENT
DTSTART;TZID=Europe/Moscow:20240607T103000
DTEND;TZID=Europe/Moscow:20240608T213000
DTSTAMP:20260423T021617
CREATED:20240104T143743Z
LAST-MODIFIED:20250626T095008Z
UID:11733-1717756200-1717882200@ease.gr
SUMMARY:35o Συνέδριο Ηγεσίας ΕΑΣΕ
DESCRIPTION:Events		\n				\n				\n					\n		\n							\n		\n				\n						\n					\n			\n								\n				\n			ΝΕΑ ΤΑΙΝΙΑ | Avant Premiere για τα μέλη της ΕΑΣΕ!\n		\n				\n				\n				\n							Η Ομάδα Δράσης “The Happenings Hub” διοργανώνει την Avant Premiere της ταινίας “The Devil Wears Prada II”\, στις Gold Class αίθουσες των Village Cinemas\, στο The Mall Athens. Η εκδήλωση απευθύνεται στα μέλη της ΕΑΣΕ και τους/τις συνοδούς τους. Περιορισμένος αριθμός θέσεων διατίθεται με σειρά προτεραιότητας. 						\n				\n					\n		\n				\n			\n								\n				\n			The Devil wears Prada II\n		\n				\n				\n				\n			30/04/202618:00 - 20:00 		\n				\n				\n				\n			17:00 Networking		\n				\n				\n				\n			Village Cinemas\, The Mall Athens
URL:https://ease.gr/event/35o-synedrio-igesias-ease/
LOCATION:Μέγαρο Μουσικής Αθηνών
CATEGORIES:Συνέδρια,Συνέδρια Ηγεσίας
ATTACH;FMTTYPE=image/jpeg:https://ease.gr/wp-content/uploads/2024/04/ACEO-Conference-2024-ENG.jpg
END:VEVENT
END:VCALENDAR