BEGIN:VCALENDAR
VERSION:2.0
PRODID:-//EASE - ECPv6.15.18//NONSGML v1.0//EN
CALSCALE:GREGORIAN
METHOD:PUBLISH
X-ORIGINAL-URL:https://ease.gr
X-WR-CALDESC:Events for EASE
REFRESH-INTERVAL;VALUE=DURATION:PT1H
X-Robots-Tag:noindex
X-PUBLISHED-TTL:PT1H
BEGIN:VTIMEZONE
TZID:Europe/Athens
BEGIN:DAYLIGHT
TZOFFSETFROM:+0200
TZOFFSETTO:+0300
TZNAME:EEST
DTSTART:20240331T010000
END:DAYLIGHT
BEGIN:STANDARD
TZOFFSETFROM:+0300
TZOFFSETTO:+0200
TZNAME:EET
DTSTART:20241027T010000
END:STANDARD
BEGIN:DAYLIGHT
TZOFFSETFROM:+0200
TZOFFSETTO:+0300
TZNAME:EEST
DTSTART:20250330T010000
END:DAYLIGHT
BEGIN:STANDARD
TZOFFSETFROM:+0300
TZOFFSETTO:+0200
TZNAME:EET
DTSTART:20251026T010000
END:STANDARD
BEGIN:DAYLIGHT
TZOFFSETFROM:+0200
TZOFFSETTO:+0300
TZNAME:EEST
DTSTART:20260329T010000
END:DAYLIGHT
BEGIN:STANDARD
TZOFFSETFROM:+0300
TZOFFSETTO:+0200
TZNAME:EET
DTSTART:20261025T010000
END:STANDARD
END:VTIMEZONE
BEGIN:VEVENT
DTSTART;TZID=Europe/Athens:20250313T170000
DTEND;TZID=Europe/Athens:20250313T203000
DTSTAMP:20260422T125625
CREATED:20250305T084405Z
LAST-MODIFIED:20250828T085538Z
UID:14482-1741885200-1741897800@ease.gr
SUMMARY:Black Bag | Avant Premiere για τα Μέλη της ΕΑΣΕ
DESCRIPTION:Events		\n				\n				\n					\n		\n							\n		\n				\n						\n					\n			\n								\n				\n			ΝΕΑ ΤΑΙΝΙΑ | Avant Premiere για τα μέλη της ΕΑΣΕ!\n		\n				\n				\n				\n							Η Ομάδα Δράσης “The Happenings Hub” διοργανώνει την Avant Premiere της ταινίας “The Devil Wears Prada II”\, στις Gold Class αίθουσες των Village Cinemas\, στο The Mall Athens. Η εκδήλωση απευθύνεται στα μέλη της ΕΑΣΕ και τους/τις συνοδούς τους. Περιορισμένος αριθμός θέσεων διατίθεται με σειρά προτεραιότητας. 						\n				\n					\n		\n				\n			\n								\n				\n			The Devil wears Prada II\n		\n				\n				\n				\n			30/04/202618:00 - 20:00 		\n				\n				\n				\n			17:00 Networking		\n				\n				\n				\n			Village Cinemas\, The Mall Athens
URL:https://ease.gr/event/black-bag-avant-premiere-gia-ta-meli-tis-ease/
LOCATION:Village Cinemas at the Mall Athens
CATEGORIES:Κοινωνικές εκδηλώσεις
ATTACH;FMTTYPE=image/jpeg:https://ease.gr/wp-content/uploads/2025/03/2_INVITATION_AVANT_PREMIERE_black-box-thumbnail.jpg
END:VEVENT
END:VCALENDAR