BEGIN:VCALENDAR
VERSION:2.0
PRODID:-//EASE - ECPv6.15.18//NONSGML v1.0//EN
CALSCALE:GREGORIAN
METHOD:PUBLISH
X-ORIGINAL-URL:https://ease.gr
X-WR-CALDESC:Events for EASE
REFRESH-INTERVAL;VALUE=DURATION:PT1H
X-Robots-Tag:noindex
X-PUBLISHED-TTL:PT1H
BEGIN:VTIMEZONE
TZID:UTC
BEGIN:STANDARD
TZOFFSETFROM:+0000
TZOFFSETTO:+0000
TZNAME:UTC
DTSTART:20250101T000000
END:STANDARD
END:VTIMEZONE
BEGIN:VEVENT
DTSTART;TZID=UTC:20260115T093000
DTEND;TZID=UTC:20260115T110000
DTSTAMP:20260422T040010
CREATED:20251217T100057Z
LAST-MODIFIED:20260115T130622Z
UID:17652-1768469400-1768474800@ease.gr
SUMMARY:ΜΕΤΑ-ΗΓΕΣΙΑ: Γιατί οι καλύτεροι CEO αποτυγχάνουν χωρίς αυτήν; Τι αλλάζει όταν η ευθύνη ξεπερνά τον ρόλο;
DESCRIPTION:Events		\n				\n				\n					\n		\n							\n		\n				\n						\n					\n			\n								\n				\n			ΝΕΑ ΤΑΙΝΙΑ | Avant Premiere για τα μέλη της ΕΑΣΕ!\n		\n				\n				\n				\n							Η Ομάδα Δράσης “The Happenings Hub” διοργανώνει την Avant Premiere της ταινίας “The Devil Wears Prada II”\, στις Gold Class αίθουσες των Village Cinemas\, στο The Mall Athens. Η εκδήλωση απευθύνεται στα μέλη της ΕΑΣΕ και τους/τις συνοδούς τους. Περιορισμένος αριθμός θέσεων διατίθεται με σειρά προτεραιότητας. 						\n				\n					\n		\n				\n			\n								\n				\n			The Devil wears Prada II\n		\n				\n				\n				\n			30/04/202618:00 - 20:00 		\n				\n				\n				\n			17:00 Networking		\n				\n				\n				\n			Village Cinemas\, The Mall Athens
URL:https://ease.gr/event/meta-igesia-giati-oi-kalyteroi-ceo-apotygchanoun-choris-aftin-ti-allazei-otan-i-efthyni-xeperna-ton-rolo/
LOCATION:Online
CATEGORIES:Διαδικτυακές συναντήσεις
ATTACH;FMTTYPE=image/png:https://ease.gr/wp-content/uploads/2025/11/espresso_THUMBNAIL_532X328.png
END:VEVENT
BEGIN:VEVENT
DTSTART;TZID=UTC:20260122T180000
DTEND;TZID=UTC:20260122T213000
DTSTAMP:20260422T040010
CREATED:20251223T084922Z
LAST-MODIFIED:20260123T104040Z
UID:17744-1769104800-1769117400@ease.gr
SUMMARY:Exclusive Distillates Series
DESCRIPTION:Events		\n				\n				\n					\n		\n							\n		\n				\n						\n					\n			\n								\n				\n			ΝΕΑ ΤΑΙΝΙΑ | Avant Premiere για τα μέλη της ΕΑΣΕ!\n		\n				\n				\n				\n							Η Ομάδα Δράσης “The Happenings Hub” διοργανώνει την Avant Premiere της ταινίας “The Devil Wears Prada II”\, στις Gold Class αίθουσες των Village Cinemas\, στο The Mall Athens. Η εκδήλωση απευθύνεται στα μέλη της ΕΑΣΕ και τους/τις συνοδούς τους. Περιορισμένος αριθμός θέσεων διατίθεται με σειρά προτεραιότητας. 						\n				\n					\n		\n				\n			\n								\n				\n			The Devil wears Prada II\n		\n				\n				\n				\n			30/04/202618:00 - 20:00 		\n				\n				\n				\n			17:00 Networking		\n				\n				\n				\n			Village Cinemas\, The Mall Athens
URL:https://ease.gr/event/exclusive-distillates-series/
LOCATION:Ιππικός Όμιλος Αμαρουσίου\, Παραδείσου 18\, Παράδεισος Αμαρουσίου\, Αθήνα\, Μαρούσι\, 15125\, Greece
CATEGORIES:Κοινωνικές εκδηλώσεις
ATTACH;FMTTYPE=image/jpeg:https://ease.gr/wp-content/uploads/2025/12/whiskey_THUMBNAIL_532X328-01.jpg
END:VEVENT
BEGIN:VEVENT
DTSTART;TZID=UTC:20260126T193000
DTEND;TZID=UTC:20260126T233000
DTSTAMP:20260422T040010
CREATED:20260102T143218Z
LAST-MODIFIED:20260220T074633Z
UID:17778-1769455800-1769470200@ease.gr
SUMMARY:Κοπή Πίτας ΕΑΣΕ 2026
DESCRIPTION:Events		\n				\n				\n					\n		\n							\n		\n				\n						\n					\n			\n								\n				\n			ΝΕΑ ΤΑΙΝΙΑ | Avant Premiere για τα μέλη της ΕΑΣΕ!\n		\n				\n				\n				\n							Η Ομάδα Δράσης “The Happenings Hub” διοργανώνει την Avant Premiere της ταινίας “The Devil Wears Prada II”\, στις Gold Class αίθουσες των Village Cinemas\, στο The Mall Athens. Η εκδήλωση απευθύνεται στα μέλη της ΕΑΣΕ και τους/τις συνοδούς τους. Περιορισμένος αριθμός θέσεων διατίθεται με σειρά προτεραιότητας. 						\n				\n					\n		\n				\n			\n								\n				\n			The Devil wears Prada II\n		\n				\n				\n				\n			30/04/202618:00 - 20:00 		\n				\n				\n				\n			17:00 Networking		\n				\n				\n				\n			Village Cinemas\, The Mall Athens
URL:https://ease.gr/event/kopi-pitas-2026/
LOCATION:Αίγλη Ζαππείου
CATEGORIES:Κοινωνικές εκδηλώσεις
ATTACH;FMTTYPE=image/jpeg:https://ease.gr/wp-content/uploads/2026/01/pita_THUMBNAIL_532X328-01-1.jpg
END:VEVENT
BEGIN:VEVENT
DTSTART;TZID=UTC:20260128T173000
DTEND;TZID=UTC:20260128T200000
DTSTAMP:20260422T040010
CREATED:20260112T144226Z
LAST-MODIFIED:20260210T105135Z
UID:17866-1769621400-1769630400@ease.gr
SUMMARY:MEET THE LEADER SERIES: Η ΕΑΣΕ ΣΥΝΑΝΤΑ ΤΟΝ ΧΡΗΣΤΟ ΜΕΓΑΛΟΥ
DESCRIPTION:Events		\n				\n				\n					\n		\n							\n		\n				\n						\n					\n			\n								\n				\n			ΝΕΑ ΤΑΙΝΙΑ | Avant Premiere για τα μέλη της ΕΑΣΕ!\n		\n				\n				\n				\n							Η Ομάδα Δράσης “The Happenings Hub” διοργανώνει την Avant Premiere της ταινίας “The Devil Wears Prada II”\, στις Gold Class αίθουσες των Village Cinemas\, στο The Mall Athens. Η εκδήλωση απευθύνεται στα μέλη της ΕΑΣΕ και τους/τις συνοδούς τους. Περιορισμένος αριθμός θέσεων διατίθεται με σειρά προτεραιότητας. 						\n				\n					\n		\n				\n			\n								\n				\n			The Devil wears Prada II\n		\n				\n				\n				\n			30/04/202618:00 - 20:00 		\n				\n				\n				\n			17:00 Networking		\n				\n				\n				\n			Village Cinemas\, The Mall Athens
URL:https://ease.gr/event/meet-the-leader-series-i-ease-synanta-ton-christo-megalou/
LOCATION:Τράπεζα Πειραιώς\, Αμερικής 4
CATEGORIES:Συναντήσεις ηγεσίας
ATTACH;FMTTYPE=image/jpeg:https://ease.gr/wp-content/uploads/2026/01/meet_the_leader_THUMBNAIL_532X328.jpg
END:VEVENT
BEGIN:VEVENT
DTSTART;TZID=UTC:20260210T093000
DTEND;TZID=UTC:20260210T110000
DTSTAMP:20260422T040010
CREATED:20260128T094817Z
LAST-MODIFIED:20260224T102609Z
UID:18072-1770715800-1770721200@ease.gr
SUMMARY:Όταν οι άνθρωποι δεν μιλούν\, ο οργανισμός πληρώνει το κόστος.
DESCRIPTION:Events		\n				\n				\n					\n		\n							\n		\n				\n						\n					\n			\n								\n				\n			ΝΕΑ ΤΑΙΝΙΑ | Avant Premiere για τα μέλη της ΕΑΣΕ!\n		\n				\n				\n				\n							Η Ομάδα Δράσης “The Happenings Hub” διοργανώνει την Avant Premiere της ταινίας “The Devil Wears Prada II”\, στις Gold Class αίθουσες των Village Cinemas\, στο The Mall Athens. Η εκδήλωση απευθύνεται στα μέλη της ΕΑΣΕ και τους/τις συνοδούς τους. Περιορισμένος αριθμός θέσεων διατίθεται με σειρά προτεραιότητας. 						\n				\n					\n		\n				\n			\n								\n				\n			The Devil wears Prada II\n		\n				\n				\n				\n			30/04/202618:00 - 20:00 		\n				\n				\n				\n			17:00 Networking		\n				\n				\n				\n			Village Cinemas\, The Mall Athens
URL:https://ease.gr/event/otan-oi-anthropoi-den-miloun-o-organismos-plironei-to-kostos/
LOCATION:Online
CATEGORIES:Διαδικτυακές συναντήσεις
ATTACH;FMTTYPE=image/jpeg:https://ease.gr/wp-content/uploads/2026/01/pulsing_THUMBNAIL_532X328.jpg
END:VEVENT
BEGIN:VEVENT
DTSTART;TZID=UTC:20260218T153000
DTEND;TZID=UTC:20260218T213000
DTSTAMP:20260422T040010
CREATED:20260116T082619Z
LAST-MODIFIED:20260302T112726Z
UID:17933-1771428600-1771450200@ease.gr
SUMMARY:ΕΤΗΣΙΑ ΤΑΚΤΙΚΗ ΓΕΝΙΚΗ ΣΥΝΕΛΕΥΣΗ ΕΑΣΕ 2026
DESCRIPTION:Events		\n				\n				\n					\n		\n							\n		\n				\n						\n					\n			\n								\n				\n			ΝΕΑ ΤΑΙΝΙΑ | Avant Premiere για τα μέλη της ΕΑΣΕ!\n		\n				\n				\n				\n							Η Ομάδα Δράσης “The Happenings Hub” διοργανώνει την Avant Premiere της ταινίας “The Devil Wears Prada II”\, στις Gold Class αίθουσες των Village Cinemas\, στο The Mall Athens. Η εκδήλωση απευθύνεται στα μέλη της ΕΑΣΕ και τους/τις συνοδούς τους. Περιορισμένος αριθμός θέσεων διατίθεται με σειρά προτεραιότητας. 						\n				\n					\n		\n				\n			\n								\n				\n			The Devil wears Prada II\n		\n				\n				\n				\n			30/04/202618:00 - 20:00 		\n				\n				\n				\n			17:00 Networking		\n				\n				\n				\n			Village Cinemas\, The Mall Athens
URL:https://ease.gr/event/etisia-taktiki-geniki-synelefsi-ease-2026/
LOCATION:Μέγαρο Μουσικής Αθηνών
CATEGORIES:Γενικές Συνελεύσεις
ATTACH;FMTTYPE=image/jpeg:https://ease.gr/wp-content/uploads/2026/01/suneleusi_THUMBNAIL_532X328-01.jpg
END:VEVENT
BEGIN:VEVENT
DTSTART;TZID=UTC:20260224T170000
DTEND;TZID=UTC:20260224T200000
DTSTAMP:20260422T040010
CREATED:20260210T110226Z
LAST-MODIFIED:20260225T122735Z
UID:18168-1771952400-1771963200@ease.gr
SUMMARY:Ambassadors' Talk Event με τον Πρέσβη της Κύπρου
DESCRIPTION:Events		\n				\n				\n					\n		\n							\n		\n				\n						\n					\n			\n								\n				\n			ΝΕΑ ΤΑΙΝΙΑ | Avant Premiere για τα μέλη της ΕΑΣΕ!\n		\n				\n				\n				\n							Η Ομάδα Δράσης “The Happenings Hub” διοργανώνει την Avant Premiere της ταινίας “The Devil Wears Prada II”\, στις Gold Class αίθουσες των Village Cinemas\, στο The Mall Athens. Η εκδήλωση απευθύνεται στα μέλη της ΕΑΣΕ και τους/τις συνοδούς τους. Περιορισμένος αριθμός θέσεων διατίθεται με σειρά προτεραιότητας. 						\n				\n					\n		\n				\n			\n								\n				\n			The Devil wears Prada II\n		\n				\n				\n				\n			30/04/202618:00 - 20:00 		\n				\n				\n				\n			17:00 Networking		\n				\n				\n				\n			Village Cinemas\, The Mall Athens
URL:https://ease.gr/event/ambassadors-talk-event-me-ton-presvi-tis-kyprou/
LOCATION:Σπίτι της Κύπρου – Κέντρο Πολιτισμού\, Ξενοφώντος 2Α\, Αθήνα\, 10557\, Greece
CATEGORIES:Θεσμικές Εκδηλώσεις
ATTACH;FMTTYPE=image/jpeg:https://ease.gr/wp-content/uploads/2025/10/THUMBNAIL_532X328-01.jpg
END:VEVENT
BEGIN:VEVENT
DTSTART;TZID=UTC:20260225T180000
DTEND;TZID=UTC:20260225T210000
DTSTAMP:20260422T040010
CREATED:20251002T121601Z
LAST-MODIFIED:20260213T144223Z
UID:14569-1772042400-1772053200@ease.gr
SUMMARY:NETWORKING HUB
DESCRIPTION:Events		\n				\n				\n					\n		\n							\n		\n				\n						\n					\n			\n								\n				\n			ΝΕΑ ΤΑΙΝΙΑ | Avant Premiere για τα μέλη της ΕΑΣΕ!\n		\n				\n				\n				\n							Η Ομάδα Δράσης “The Happenings Hub” διοργανώνει την Avant Premiere της ταινίας “The Devil Wears Prada II”\, στις Gold Class αίθουσες των Village Cinemas\, στο The Mall Athens. Η εκδήλωση απευθύνεται στα μέλη της ΕΑΣΕ και τους/τις συνοδούς τους. Περιορισμένος αριθμός θέσεων διατίθεται με σειρά προτεραιότητας. 						\n				\n					\n		\n				\n			\n								\n				\n			The Devil wears Prada II\n		\n				\n				\n				\n			30/04/202618:00 - 20:00 		\n				\n				\n				\n			17:00 Networking		\n				\n				\n				\n			Village Cinemas\, The Mall Athens
URL:https://ease.gr/event/networking-hub/
LOCATION:SAY HOTEL\, Χαρ. Τρικούπη 67\, Κηφισιά\, 145 62\, Greece
CATEGORIES:Κοινωνικές εκδηλώσεις
ATTACH;FMTTYPE=image/jpeg:https://ease.gr/wp-content/uploads/2025/10/hub_THUMBNAIL_532X328.jpg
END:VEVENT
BEGIN:VEVENT
DTSTART;TZID=UTC:20260303T093000
DTEND;TZID=UTC:20260303T110000
DTSTAMP:20260422T040010
CREATED:20260211T135820Z
LAST-MODIFIED:20260318T093213Z
UID:18196-1772530200-1772535600@ease.gr
SUMMARY:The Art of Reinvention: Leading yourself — before leading change
DESCRIPTION:Events		\n				\n				\n					\n		\n							\n		\n				\n						\n					\n			\n								\n				\n			ΝΕΑ ΤΑΙΝΙΑ | Avant Premiere για τα μέλη της ΕΑΣΕ!\n		\n				\n				\n				\n							Η Ομάδα Δράσης “The Happenings Hub” διοργανώνει την Avant Premiere της ταινίας “The Devil Wears Prada II”\, στις Gold Class αίθουσες των Village Cinemas\, στο The Mall Athens. Η εκδήλωση απευθύνεται στα μέλη της ΕΑΣΕ και τους/τις συνοδούς τους. Περιορισμένος αριθμός θέσεων διατίθεται με σειρά προτεραιότητας. 						\n				\n					\n		\n				\n			\n								\n				\n			The Devil wears Prada II\n		\n				\n				\n				\n			30/04/202618:00 - 20:00 		\n				\n				\n				\n			17:00 Networking		\n				\n				\n				\n			Village Cinemas\, The Mall Athens
URL:https://ease.gr/event/the-art-of-reinvention-leading-yourself-before-leading-change/
LOCATION:Online
CATEGORIES:Διαδικτυακές συναντήσεις
ATTACH;FMTTYPE=image/png:https://ease.gr/wp-content/uploads/2025/11/espresso_THUMBNAIL_532X328.png
END:VEVENT
BEGIN:VEVENT
DTSTART;TZID=UTC:20260309T180000
DTEND;TZID=UTC:20260309T210000
DTSTAMP:20260422T040010
CREATED:20260219T100133Z
LAST-MODIFIED:20260317T140113Z
UID:18116-1773079200-1773090000@ease.gr
SUMMARY:Business Luncheon
DESCRIPTION:Events		\n				\n				\n					\n		\n							\n		\n				\n						\n					\n			\n								\n				\n			ΝΕΑ ΤΑΙΝΙΑ | Avant Premiere για τα μέλη της ΕΑΣΕ!\n		\n				\n				\n				\n							Η Ομάδα Δράσης “The Happenings Hub” διοργανώνει την Avant Premiere της ταινίας “The Devil Wears Prada II”\, στις Gold Class αίθουσες των Village Cinemas\, στο The Mall Athens. Η εκδήλωση απευθύνεται στα μέλη της ΕΑΣΕ και τους/τις συνοδούς τους. Περιορισμένος αριθμός θέσεων διατίθεται με σειρά προτεραιότητας. 						\n				\n					\n		\n				\n			\n								\n				\n			The Devil wears Prada II\n		\n				\n				\n				\n			30/04/202618:00 - 20:00 		\n				\n				\n				\n			17:00 Networking		\n				\n				\n				\n			Village Cinemas\, The Mall Athens
URL:https://ease.gr/event/business-luncheon/
LOCATION:HYATT REGENCY
CATEGORIES:Κοινωνικές εκδηλώσεις
ATTACH;FMTTYPE=image/jpeg:https://ease.gr/wp-content/uploads/2026/02/THUMBNAIL_532X328-01.jpg
END:VEVENT
BEGIN:VEVENT
DTSTART;TZID=UTC:20260311T173000
DTEND;TZID=UTC:20260311T200000
DTSTAMP:20260422T040010
CREATED:20260219T123801Z
LAST-MODIFIED:20260316T101207Z
UID:18313-1773250200-1773259200@ease.gr
SUMMARY:Εταιρική Διακυβέρνηση: η αρχιτεκτονική της ισχυρής ανάπτυξης
DESCRIPTION:Events		\n				\n				\n					\n		\n							\n		\n				\n						\n					\n			\n								\n				\n			ΝΕΑ ΤΑΙΝΙΑ | Avant Premiere για τα μέλη της ΕΑΣΕ!\n		\n				\n				\n				\n							Η Ομάδα Δράσης “The Happenings Hub” διοργανώνει την Avant Premiere της ταινίας “The Devil Wears Prada II”\, στις Gold Class αίθουσες των Village Cinemas\, στο The Mall Athens. Η εκδήλωση απευθύνεται στα μέλη της ΕΑΣΕ και τους/τις συνοδούς τους. Περιορισμένος αριθμός θέσεων διατίθεται με σειρά προτεραιότητας. 						\n				\n					\n		\n				\n			\n								\n				\n			The Devil wears Prada II\n		\n				\n				\n				\n			30/04/202618:00 - 20:00 		\n				\n				\n				\n			17:00 Networking		\n				\n				\n				\n			Village Cinemas\, The Mall Athens
URL:https://ease.gr/event/etairiki-diakyvernisi-i-architektoniki-tis-ischyris-anaptyxis/
LOCATION:OTE Academy
CATEGORIES:Συναντήσεις ηγεσίας
ATTACH;FMTTYPE=image/jpeg:https://ease.gr/wp-content/uploads/2026/02/esg_THUMBNAIL_532X328.jpg
END:VEVENT
BEGIN:VEVENT
DTSTART;TZID=UTC:20260316T170000
DTEND;TZID=UTC:20260316T193000
DTSTAMP:20260422T040010
CREATED:20260227T135458Z
LAST-MODIFIED:20260318T093447Z
UID:18449-1773680400-1773689400@ease.gr
SUMMARY:Think Tank Ηγεσίας: Leading Under Pressure\, Tools for a VUCA World
DESCRIPTION:Events		\n				\n				\n					\n		\n							\n		\n				\n						\n					\n			\n								\n				\n			ΝΕΑ ΤΑΙΝΙΑ | Avant Premiere για τα μέλη της ΕΑΣΕ!\n		\n				\n				\n				\n							Η Ομάδα Δράσης “The Happenings Hub” διοργανώνει την Avant Premiere της ταινίας “The Devil Wears Prada II”\, στις Gold Class αίθουσες των Village Cinemas\, στο The Mall Athens. Η εκδήλωση απευθύνεται στα μέλη της ΕΑΣΕ και τους/τις συνοδούς τους. Περιορισμένος αριθμός θέσεων διατίθεται με σειρά προτεραιότητας. 						\n				\n					\n		\n				\n			\n								\n				\n			The Devil wears Prada II\n		\n				\n				\n				\n			30/04/202618:00 - 20:00 		\n				\n				\n				\n			17:00 Networking		\n				\n				\n				\n			Village Cinemas\, The Mall Athens
URL:https://ease.gr/event/think-tank-igesias-leading-under-pressure-tools-for-a-vuca-world/
LOCATION:OTE Academy
CATEGORIES:Συναντήσεις ηγεσίας
ATTACH;FMTTYPE=image/jpeg:https://ease.gr/wp-content/uploads/2026/02/think_tank_THUMBNAIL_532X328-01.jpg
END:VEVENT
BEGIN:VEVENT
DTSTART;TZID=UTC:20260318T170000
DTEND;TZID=UTC:20260318T200000
DTSTAMP:20260422T040010
CREATED:20260225T113038Z
LAST-MODIFIED:20260401T064711Z
UID:18400-1773853200-1773864000@ease.gr
SUMMARY:Ambassadors' Talk Event με τον Πρέσβη της Σουηδίας
DESCRIPTION:Events		\n				\n				\n					\n		\n							\n		\n				\n						\n					\n			\n								\n				\n			ΝΕΑ ΤΑΙΝΙΑ | Avant Premiere για τα μέλη της ΕΑΣΕ!\n		\n				\n				\n				\n							Η Ομάδα Δράσης “The Happenings Hub” διοργανώνει την Avant Premiere της ταινίας “The Devil Wears Prada II”\, στις Gold Class αίθουσες των Village Cinemas\, στο The Mall Athens. Η εκδήλωση απευθύνεται στα μέλη της ΕΑΣΕ και τους/τις συνοδούς τους. Περιορισμένος αριθμός θέσεων διατίθεται με σειρά προτεραιότητας. 						\n				\n					\n		\n				\n			\n								\n				\n			The Devil wears Prada II\n		\n				\n				\n				\n			30/04/202618:00 - 20:00 		\n				\n				\n				\n			17:00 Networking		\n				\n				\n				\n			Village Cinemas\, The Mall Athens
URL:https://ease.gr/event/ambassadors-talk-event-me-ton-presvi-tis-souidias/
LOCATION:Πρεσβευτική Κατοικία\, Φιλοθέη
CATEGORIES:Θεσμικές Εκδηλώσεις
ATTACH;FMTTYPE=image/jpeg:https://ease.gr/wp-content/uploads/2025/10/THUMBNAIL_532X328-01.jpg
END:VEVENT
BEGIN:VEVENT
DTSTART;TZID=UTC:20260402T180000
DTEND;TZID=UTC:20260402T203000
DTSTAMP:20260422T040010
CREATED:20260311T114702Z
LAST-MODIFIED:20260311T125637Z
UID:18536-1775152800-1775161800@ease.gr
SUMMARY:360° Well-Being
DESCRIPTION:Events		\n				\n				\n					\n		\n							\n		\n				\n						\n					\n			\n								\n				\n			ΝΕΑ ΤΑΙΝΙΑ | Avant Premiere για τα μέλη της ΕΑΣΕ!\n		\n				\n				\n				\n							Η Ομάδα Δράσης “The Happenings Hub” διοργανώνει την Avant Premiere της ταινίας “The Devil Wears Prada II”\, στις Gold Class αίθουσες των Village Cinemas\, στο The Mall Athens. Η εκδήλωση απευθύνεται στα μέλη της ΕΑΣΕ και τους/τις συνοδούς τους. Περιορισμένος αριθμός θέσεων διατίθεται με σειρά προτεραιότητας. 						\n				\n					\n		\n				\n			\n								\n				\n			The Devil wears Prada II\n		\n				\n				\n				\n			30/04/202618:00 - 20:00 		\n				\n				\n				\n			17:00 Networking		\n				\n				\n				\n			Village Cinemas\, The Mall Athens
URL:https://ease.gr/event/360-well-being/
LOCATION:Ιππικός Όμιλος Αμαρουσίου\, Παραδείσου 18\, Παράδεισος Αμαρουσίου\, Αθήνα\, Μαρούσι\, 15125\, Greece
CATEGORIES:Κοινωνικές εκδηλώσεις
ATTACH;FMTTYPE=image/jpeg:https://ease.gr/wp-content/uploads/2026/03/wellbeing_THUMBNAIL_532X328-01.jpg
END:VEVENT
BEGIN:VEVENT
DTSTART;TZID=UTC:20260430T170000
DTEND;TZID=UTC:20260430T200000
DTSTAMP:20260422T040010
CREATED:20260402T073948Z
LAST-MODIFIED:20260402T074623Z
UID:18438-1777568400-1777579200@ease.gr
SUMMARY:The Devil wears Prada II | Avant Premiere για τα μέλη της ΕΑΣΕ
DESCRIPTION:Events		\n				\n				\n					\n		\n							\n		\n				\n						\n					\n			\n								\n				\n			ΝΕΑ ΤΑΙΝΙΑ | Avant Premiere για τα μέλη της ΕΑΣΕ!\n		\n				\n				\n				\n							Η Ομάδα Δράσης “The Happenings Hub” διοργανώνει την Avant Premiere της ταινίας “The Devil Wears Prada II”\, στις Gold Class αίθουσες των Village Cinemas\, στο The Mall Athens. Η εκδήλωση απευθύνεται στα μέλη της ΕΑΣΕ και τους/τις συνοδούς τους. Περιορισμένος αριθμός θέσεων διατίθεται με σειρά προτεραιότητας. 						\n				\n					\n		\n				\n			\n								\n				\n			The Devil wears Prada II\n		\n				\n				\n				\n			30/04/202618:00 - 20:00 		\n				\n				\n				\n			17:00 Networking		\n				\n				\n				\n			Village Cinemas\, The Mall Athens
URL:https://ease.gr/event/the-devil-wears-prada-ii-avant-premiere-gia-ta-meli-tis-ease/
LOCATION:Village Cinemas at the Mall Athens
CATEGORIES:Κοινωνικές εκδηλώσεις
ATTACH;FMTTYPE=image/jpeg:https://ease.gr/wp-content/uploads/2026/02/avant_premiere_THUMBNAIL_532X328-01.jpg
END:VEVENT
BEGIN:VEVENT
DTSTART;TZID=UTC:20260515T100000
DTEND;TZID=UTC:20260516T183000
DTSTAMP:20260422T040010
CREATED:20260311T122659Z
LAST-MODIFIED:20260414T104403Z
UID:18539-1778839200-1778956200@ease.gr
SUMMARY:37ο Συνέδριο Ηγεσίας
DESCRIPTION:Events		\n				\n				\n					\n		\n							\n		\n				\n						\n					\n			\n								\n				\n			ΝΕΑ ΤΑΙΝΙΑ | Avant Premiere για τα μέλη της ΕΑΣΕ!\n		\n				\n				\n				\n							Η Ομάδα Δράσης “The Happenings Hub” διοργανώνει την Avant Premiere της ταινίας “The Devil Wears Prada II”\, στις Gold Class αίθουσες των Village Cinemas\, στο The Mall Athens. Η εκδήλωση απευθύνεται στα μέλη της ΕΑΣΕ και τους/τις συνοδούς τους. Περιορισμένος αριθμός θέσεων διατίθεται με σειρά προτεραιότητας. 						\n				\n					\n		\n				\n			\n								\n				\n			The Devil wears Prada II\n		\n				\n				\n				\n			30/04/202618:00 - 20:00 		\n				\n				\n				\n			17:00 Networking		\n				\n				\n				\n			Village Cinemas\, The Mall Athens
URL:https://ease.gr/event/37o-synedrio-igesias/
LOCATION:Μέγαρο Μουσικής Αθηνών
CATEGORIES:Συνέδρια Ηγεσίας
ATTACH;FMTTYPE=image/jpeg:https://ease.gr/wp-content/uploads/2026/01/SYNEDRIO_THUMBNAIL_532X328-01.jpg
END:VEVENT
END:VCALENDAR