BEGIN:VCALENDAR
VERSION:2.0
PRODID:-//EASE - ECPv6.15.18//NONSGML v1.0//EN
CALSCALE:GREGORIAN
METHOD:PUBLISH
X-WR-CALNAME:EASE
X-ORIGINAL-URL:https://ease.gr
X-WR-CALDESC:Events for EASE
REFRESH-INTERVAL;VALUE=DURATION:PT1H
X-Robots-Tag:noindex
X-PUBLISHED-TTL:PT1H
BEGIN:VTIMEZONE
TZID:UTC
BEGIN:STANDARD
TZOFFSETFROM:+0000
TZOFFSETTO:+0000
TZNAME:UTC
DTSTART:20180101T000000
END:STANDARD
END:VTIMEZONE
BEGIN:VEVENT
DTSTART;TZID=UTC:20210126T000000
DTEND;TZID=UTC:20210126T000000
DTSTAMP:20260423T090041
CREATED:20230214T112831Z
LAST-MODIFIED:20230220T143320Z
UID:9184-1611619200-1611619200@ease.gr
SUMMARY:Post Covid prospects of the Real Estate Market in Greece
DESCRIPTION:Το Μέλλον: τρόπος σκέψης\, εργαλείο διοίκησης\, μοντέλο ηγεσίας		\n				\n					\n		\n							\n		\n				\n						\n					\n			\n								\n				\n			\nEvents		\n				\n				\n					\n		\n							\n		\n				\n						\n					\n			\n								\n				\n							Καλεσμένοι ομιλητές ήταν ο κ. Γιάννης Μαστρογεωργίου\, Ειδικός Γραμματέας Μακροπρόθεσμου Σχεδιασμού\, Προεδρία της Ελληνικής Κυβέρνησης και η κα. Ρεββέκα Πιτσίκα\, CEO\, People for Business\, οι οποίοι μίλησαν για την πρόβλεψη και τη διαχείριση της αλλαγής που διαμορφώνουν οι παγκόσμιες τάσεις. 						\n				\n					\n		\n				\n			\n								\n				\n			Espresso for the Mind		\n				\n				\n				\n			31.03.2022		\n				\n				\n				\n			Online
URL:https://ease.gr/event/post-covid-prospects-of-the-real-estate-market-in-greece/
LOCATION:Online
CATEGORIES:Διαδικτυακές συναντήσεις
ATTACH;FMTTYPE=image/jpeg:https://ease.gr/wp-content/uploads/2023/02/2.4.-Webinar-26.1-2-1.jpg
END:VEVENT
BEGIN:VEVENT
DTSTART;TZID=UTC:20190402T090000
DTEND;TZID=UTC:20190402T150000
DTSTAMP:20260423T090041
CREATED:20251222T090246Z
LAST-MODIFIED:20251222T090912Z
UID:17724-1554195600-1554217200@ease.gr
SUMMARY:Γέφυρες Συνεργασίας 2019
DESCRIPTION:Το Μέλλον: τρόπος σκέψης\, εργαλείο διοίκησης\, μοντέλο ηγεσίας		\n				\n					\n		\n							\n		\n				\n						\n					\n			\n								\n				\n			\nEvents		\n				\n				\n					\n		\n							\n		\n				\n						\n					\n			\n								\n				\n							Καλεσμένοι ομιλητές ήταν ο κ. Γιάννης Μαστρογεωργίου\, Ειδικός Γραμματέας Μακροπρόθεσμου Σχεδιασμού\, Προεδρία της Ελληνικής Κυβέρνησης και η κα. Ρεββέκα Πιτσίκα\, CEO\, People for Business\, οι οποίοι μίλησαν για την πρόβλεψη και τη διαχείριση της αλλαγής που διαμορφώνουν οι παγκόσμιες τάσεις. 						\n				\n					\n		\n				\n			\n								\n				\n			Espresso for the Mind		\n				\n				\n				\n			31.03.2022		\n				\n				\n				\n			Online
URL:https://ease.gr/event/gefyres-synergasias-2019/
CATEGORIES:Θεσμικές Εκδηλώσεις
ATTACH;FMTTYPE=image/jpeg:https://ease.gr/wp-content/uploads/2025/12/ΕΑΣΕ_28.3.2019_Α-scaled.jpg
END:VEVENT
END:VCALENDAR