BEGIN:VCALENDAR
VERSION:2.0
PRODID:-//EASE - ECPv6.15.18//NONSGML v1.0//EN
CALSCALE:GREGORIAN
METHOD:PUBLISH
X-WR-CALNAME:EASE
X-ORIGINAL-URL:https://ease.gr
X-WR-CALDESC:Events for EASE
REFRESH-INTERVAL;VALUE=DURATION:PT1H
X-Robots-Tag:noindex
X-PUBLISHED-TTL:PT1H
BEGIN:VTIMEZONE
TZID:UTC
BEGIN:STANDARD
TZOFFSETFROM:+0000
TZOFFSETTO:+0000
TZNAME:UTC
DTSTART:20180101T000000
END:STANDARD
END:VTIMEZONE
BEGIN:VEVENT
DTSTART;TZID=UTC:20211130T000000
DTEND;TZID=UTC:20211130T235900
DTSTAMP:20260423T020014
CREATED:20230214T155432Z
LAST-MODIFIED:20251013T160500Z
UID:9704-1638230400-1638316740@ease.gr
SUMMARY:Espresso for the mind | Leadership
DESCRIPTION:Κοπή Πρωτοχρονιάτικης Πίτας		\n				\n					\n		\n							\n		\n				\n						\n					\n			\n								\n				\n			\nEvents		\n				\n				\n				\n				\n							Σε ζεστό κλίμα έγινε η κοπή πίτας της ΕΑΣΕ για το νέο έτος\, στο αμφιθέατρο της OTEAcademy\, μετά την ολοκλήρωση των εργασιών της Γενικής Συνέλευσης των μελών. Οι δύο τυχεροί που αναδείχθηκαν\, κέρδισαν δώρα καθώς και ένα γούρι για αφθονία από την ΕΑΣΕ. 						\n				\n					\n		\n				\n			\n								\n				\n			Κοπή Πρωτοχρονιάτικης Πίτας		\n				\n				\n				\n			5 Ιανουαρίου 2023		\n				\n				\n				\n			ΟΤΕ Αcademy
URL:https://ease.gr/event/espresso-for-the-mind-leadership-2/
LOCATION:Τατόϊ Club
CATEGORIES:Συναντήσεις ηγεσίας
ATTACH;FMTTYPE=image/jpeg:https://ease.gr/wp-content/uploads/2023/02/Espresso4theMind-30.11.2021-1-e1676397476283.jpg
END:VEVENT
BEGIN:VEVENT
DTSTART;VALUE=DATE:20211116
DTEND;VALUE=DATE:20211117
DTSTAMP:20260423T020014
CREATED:20230214T123616Z
LAST-MODIFIED:20230220T142639Z
UID:9226-1637020800-1637107199@ease.gr
SUMMARY:CEOnergies Breakfast Meeting
DESCRIPTION:Κοπή Πρωτοχρονιάτικης Πίτας		\n				\n					\n		\n							\n		\n				\n						\n					\n			\n								\n				\n			\nEvents		\n				\n				\n				\n				\n							Σε ζεστό κλίμα έγινε η κοπή πίτας της ΕΑΣΕ για το νέο έτος\, στο αμφιθέατρο της OTEAcademy\, μετά την ολοκλήρωση των εργασιών της Γενικής Συνέλευσης των μελών. Οι δύο τυχεροί που αναδείχθηκαν\, κέρδισαν δώρα καθώς και ένα γούρι για αφθονία από την ΕΑΣΕ. 						\n				\n					\n		\n				\n			\n								\n				\n			Κοπή Πρωτοχρονιάτικης Πίτας		\n				\n				\n				\n			5 Ιανουαρίου 2023		\n				\n				\n				\n			ΟΤΕ Αcademy
URL:https://ease.gr/event/ceonergies-breakfast-meeting-2/
CATEGORIES:Διαδικτυακές συναντήσεις
ATTACH;FMTTYPE=image/jpeg:https://ease.gr/wp-content/uploads/2023/01/2.3-LOGO_CEOENERGIES-1.jpg
END:VEVENT
BEGIN:VEVENT
DTSTART;VALUE=DATE:20211112
DTEND;VALUE=DATE:20211115
DTSTAMP:20260423T020014
CREATED:20230214T154130Z
LAST-MODIFIED:20230223T092232Z
UID:9682-1636675200-1636934399@ease.gr
SUMMARY:Executive Cultural Escape
DESCRIPTION:Κοπή Πρωτοχρονιάτικης Πίτας		\n				\n					\n		\n							\n		\n				\n						\n					\n			\n								\n				\n			\nEvents		\n				\n				\n				\n				\n							Σε ζεστό κλίμα έγινε η κοπή πίτας της ΕΑΣΕ για το νέο έτος\, στο αμφιθέατρο της OTEAcademy\, μετά την ολοκλήρωση των εργασιών της Γενικής Συνέλευσης των μελών. Οι δύο τυχεροί που αναδείχθηκαν\, κέρδισαν δώρα καθώς και ένα γούρι για αφθονία από την ΕΑΣΕ. 						\n				\n					\n		\n				\n			\n								\n				\n			Κοπή Πρωτοχρονιάτικης Πίτας		\n				\n				\n				\n			5 Ιανουαρίου 2023		\n				\n				\n				\n			ΟΤΕ Αcademy
URL:https://ease.gr/event/executive-cultural-escape/
LOCATION:Μυστράς
CATEGORIES:Κοινωνικές εκδηλώσεις
ATTACH;FMTTYPE=image/jpeg:https://ease.gr/wp-content/uploads/2023/02/EXECUTIVE-CULTURAL-ESCAPE-Εκδρομή-στον-Μυστρά-12-14.11.2021-e1676450620588.jpg
END:VEVENT
BEGIN:VEVENT
DTSTART;VALUE=DATE:20211015
DTEND;VALUE=DATE:20211017
DTSTAMP:20260423T020014
CREATED:20230214T081457Z
LAST-MODIFIED:20230220T142701Z
UID:8476-1634256000-1634428799@ease.gr
SUMMARY:Το Ελληνικό Συνέδριο Ηγεσίας- 32ο Συνέδριο Ηγεσίας ΕΑΣΕ
DESCRIPTION:Κοπή Πρωτοχρονιάτικης Πίτας		\n				\n					\n		\n							\n		\n				\n						\n					\n			\n								\n				\n			\nEvents		\n				\n				\n				\n				\n							Σε ζεστό κλίμα έγινε η κοπή πίτας της ΕΑΣΕ για το νέο έτος\, στο αμφιθέατρο της OTEAcademy\, μετά την ολοκλήρωση των εργασιών της Γενικής Συνέλευσης των μελών. Οι δύο τυχεροί που αναδείχθηκαν\, κέρδισαν δώρα καθώς και ένα γούρι για αφθονία από την ΕΑΣΕ. 						\n				\n					\n		\n				\n			\n								\n				\n			Κοπή Πρωτοχρονιάτικης Πίτας		\n				\n				\n				\n			5 Ιανουαρίου 2023		\n				\n				\n				\n			ΟΤΕ Αcademy
URL:https://ease.gr/event/to-elliniko-synedrio-igesias-32o-synedrio-igesias-ease/
LOCATION:Grand Resort Lagonissi
CATEGORIES:Συνέδρια,Συνέδρια Ηγεσίας
ATTACH;FMTTYPE=image/jpeg:https://ease.gr/wp-content/uploads/2023/02/5W1A6593-scaled.jpg
END:VEVENT
BEGIN:VEVENT
DTSTART;VALUE=DATE:20211015
DTEND;VALUE=DATE:20211017
DTSTAMP:20260423T020014
CREATED:20230214T081457Z
LAST-MODIFIED:20230215T082525Z
UID:9960-1634256000-1634428799@ease.gr
SUMMARY:Hellenic Leadership Conference - 32nd ACEO Leadership Conference
DESCRIPTION:Κοπή Πρωτοχρονιάτικης Πίτας		\n				\n					\n		\n							\n		\n				\n						\n					\n			\n								\n				\n			\nEvents		\n				\n				\n				\n				\n							Σε ζεστό κλίμα έγινε η κοπή πίτας της ΕΑΣΕ για το νέο έτος\, στο αμφιθέατρο της OTEAcademy\, μετά την ολοκλήρωση των εργασιών της Γενικής Συνέλευσης των μελών. Οι δύο τυχεροί που αναδείχθηκαν\, κέρδισαν δώρα καθώς και ένα γούρι για αφθονία από την ΕΑΣΕ. 						\n				\n					\n		\n				\n			\n								\n				\n			Κοπή Πρωτοχρονιάτικης Πίτας		\n				\n				\n				\n			5 Ιανουαρίου 2023		\n				\n				\n				\n			ΟΤΕ Αcademy
URL:https://ease.gr/event/hellenic-leadership-conference-32nd-aceo-leadership-conference/
LOCATION:Grand Resort Lagonissi
CATEGORIES:Συνέδρια,Συνέδρια Ηγεσίας
ATTACH;FMTTYPE=image/jpeg:https://ease.gr/wp-content/uploads/2023/02/5W1A6593-scaled.jpg
END:VEVENT
BEGIN:VEVENT
DTSTART;TZID=UTC:20210929T000000
DTEND;TZID=UTC:20210929T000000
DTSTAMP:20260423T020014
CREATED:20230214T092132Z
LAST-MODIFIED:20230220T142719Z
UID:8475-1632873600-1632873600@ease.gr
SUMMARY:Singularity -The future is closer than you think
DESCRIPTION:Κοπή Πρωτοχρονιάτικης Πίτας		\n				\n					\n		\n							\n		\n				\n						\n					\n			\n								\n				\n			\nEvents		\n				\n				\n				\n				\n							Σε ζεστό κλίμα έγινε η κοπή πίτας της ΕΑΣΕ για το νέο έτος\, στο αμφιθέατρο της OTEAcademy\, μετά την ολοκλήρωση των εργασιών της Γενικής Συνέλευσης των μελών. Οι δύο τυχεροί που αναδείχθηκαν\, κέρδισαν δώρα καθώς και ένα γούρι για αφθονία από την ΕΑΣΕ. 						\n				\n					\n		\n				\n			\n								\n				\n			Κοπή Πρωτοχρονιάτικης Πίτας		\n				\n				\n				\n			5 Ιανουαρίου 2023		\n				\n				\n				\n			ΟΤΕ Αcademy
URL:https://ease.gr/event/32o-synedrio-igesias-ease-3/
LOCATION:Online
CATEGORIES:Διαδικτυακές συναντήσεις
ATTACH;FMTTYPE=image/jpeg:https://ease.gr/wp-content/uploads/2023/02/2.4.-Webinar-29.9.jpg
END:VEVENT
BEGIN:VEVENT
DTSTART;VALUE=DATE:20210915
DTEND;VALUE=DATE:20210916
DTSTAMP:20260423T020014
CREATED:20230214T112704Z
LAST-MODIFIED:20230220T142739Z
UID:8968-1631664000-1631750399@ease.gr
SUMMARY:Ο νέος εργασιακός νόμος και οι προκλήσεις για τον Γενικό Διευθυντή
DESCRIPTION:Κοπή Πρωτοχρονιάτικης Πίτας		\n				\n					\n		\n							\n		\n				\n						\n					\n			\n								\n				\n			\nEvents		\n				\n				\n				\n				\n							Σε ζεστό κλίμα έγινε η κοπή πίτας της ΕΑΣΕ για το νέο έτος\, στο αμφιθέατρο της OTEAcademy\, μετά την ολοκλήρωση των εργασιών της Γενικής Συνέλευσης των μελών. Οι δύο τυχεροί που αναδείχθηκαν\, κέρδισαν δώρα καθώς και ένα γούρι για αφθονία από την ΕΑΣΕ. 						\n				\n					\n		\n				\n			\n								\n				\n			Κοπή Πρωτοχρονιάτικης Πίτας		\n				\n				\n				\n			5 Ιανουαρίου 2023		\n				\n				\n				\n			ΟΤΕ Αcademy
URL:https://ease.gr/event/ceonergies-breakfast-meeting/
LOCATION:Online
CATEGORIES:Διαδικτυακές συναντήσεις
ATTACH;FMTTYPE=image/jpeg:https://ease.gr/wp-content/uploads/2023/02/2.4.-Webinar-15.9-1.jpg
END:VEVENT
BEGIN:VEVENT
DTSTART;TZID=UTC:20210908T000000
DTEND;TZID=UTC:20210908T000000
DTSTAMP:20260423T020015
CREATED:20230214T142059Z
LAST-MODIFIED:20230220T142759Z
UID:9476-1631059200-1631059200@ease.gr
SUMMARY:Tech2CEO/ Διανοητική Ιδιοκτησία
DESCRIPTION:Κοπή Πρωτοχρονιάτικης Πίτας		\n				\n					\n		\n							\n		\n				\n						\n					\n			\n								\n				\n			\nEvents		\n				\n				\n				\n				\n							Σε ζεστό κλίμα έγινε η κοπή πίτας της ΕΑΣΕ για το νέο έτος\, στο αμφιθέατρο της OTEAcademy\, μετά την ολοκλήρωση των εργασιών της Γενικής Συνέλευσης των μελών. Οι δύο τυχεροί που αναδείχθηκαν\, κέρδισαν δώρα καθώς και ένα γούρι για αφθονία από την ΕΑΣΕ. 						\n				\n					\n		\n				\n			\n								\n				\n			Κοπή Πρωτοχρονιάτικης Πίτας		\n				\n				\n				\n			5 Ιανουαρίου 2023		\n				\n				\n				\n			ΟΤΕ Αcademy
URL:https://ease.gr/event/tech2ceo-dianoitiki-idioktisia/
LOCATION:Online
CATEGORIES:Διαδικτυακές συναντήσεις
ATTACH;FMTTYPE=image/jpeg:https://ease.gr/wp-content/uploads/2023/02/2.6.-Tech2CEO-8.9-1-1.jpg
END:VEVENT
BEGIN:VEVENT
DTSTART;TZID=UTC:20210708T104000
DTEND;TZID=UTC:20210708T104000
DTSTAMP:20260423T020015
CREATED:20230214T142546Z
LAST-MODIFIED:20230220T142855Z
UID:9514-1625740800-1625740800@ease.gr
SUMMARY:#2KnowUsBetter | Networking Online Event Νέων Μελών
DESCRIPTION:Κοπή Πρωτοχρονιάτικης Πίτας		\n				\n					\n		\n							\n		\n				\n						\n					\n			\n								\n				\n			\nEvents		\n				\n				\n				\n				\n							Σε ζεστό κλίμα έγινε η κοπή πίτας της ΕΑΣΕ για το νέο έτος\, στο αμφιθέατρο της OTEAcademy\, μετά την ολοκλήρωση των εργασιών της Γενικής Συνέλευσης των μελών. Οι δύο τυχεροί που αναδείχθηκαν\, κέρδισαν δώρα καθώς και ένα γούρι για αφθονία από την ΕΑΣΕ. 						\n				\n					\n		\n				\n			\n								\n				\n			Κοπή Πρωτοχρονιάτικης Πίτας		\n				\n				\n				\n			5 Ιανουαρίου 2023		\n				\n				\n				\n			ΟΤΕ Αcademy
URL:https://ease.gr/event/2knowusbetter-networking-online-event-neon-melon/
LOCATION:Online
CATEGORIES:Διαδικτυακές συναντήσεις
ATTACH;FMTTYPE=image/jpeg:https://ease.gr/wp-content/uploads/2023/02/2.9-2KnowusBetter.jpg
END:VEVENT
BEGIN:VEVENT
DTSTART;TZID=UTC:20210707T000000
DTEND;TZID=UTC:20210707T000000
DTSTAMP:20260423T020015
CREATED:20230214T140542Z
LAST-MODIFIED:20230220T142930Z
UID:9328-1625616000-1625616000@ease.gr
SUMMARY:Tech2CEO / Ψηφιακός Μετασχηματισμός - Ιστορίες Επιτυχίας- Το παράδειγμα του ΧΡΥΣΟΥ ΟΔΗΓΟΥ
DESCRIPTION:Κοπή Πρωτοχρονιάτικης Πίτας		\n				\n					\n		\n							\n		\n				\n						\n					\n			\n								\n				\n			\nEvents		\n				\n				\n				\n				\n							Σε ζεστό κλίμα έγινε η κοπή πίτας της ΕΑΣΕ για το νέο έτος\, στο αμφιθέατρο της OTEAcademy\, μετά την ολοκλήρωση των εργασιών της Γενικής Συνέλευσης των μελών. Οι δύο τυχεροί που αναδείχθηκαν\, κέρδισαν δώρα καθώς και ένα γούρι για αφθονία από την ΕΑΣΕ. 						\n				\n					\n		\n				\n			\n								\n				\n			Κοπή Πρωτοχρονιάτικης Πίτας		\n				\n				\n				\n			5 Ιανουαρίου 2023		\n				\n				\n				\n			ΟΤΕ Αcademy
URL:https://ease.gr/event/neos-kyklos-ekdiloseon-ease-tech2ceo/
LOCATION:Online
CATEGORIES:Διαδικτυακές συναντήσεις
ATTACH;FMTTYPE=image/jpeg:https://ease.gr/wp-content/uploads/2023/02/2.6.-Tech2CEO-7.7.jpg
END:VEVENT
BEGIN:VEVENT
DTSTART;VALUE=DATE:20210701
DTEND;VALUE=DATE:20210702
DTSTAMP:20260423T020015
CREATED:20230214T110844Z
LAST-MODIFIED:20230220T143008Z
UID:9093-1625097600-1625183999@ease.gr
SUMMARY:ΕΑΣΕ Summer Dinner
DESCRIPTION:Κοπή Πρωτοχρονιάτικης Πίτας		\n				\n					\n		\n							\n		\n				\n						\n					\n			\n								\n				\n			\nEvents		\n				\n				\n				\n				\n							Σε ζεστό κλίμα έγινε η κοπή πίτας της ΕΑΣΕ για το νέο έτος\, στο αμφιθέατρο της OTEAcademy\, μετά την ολοκλήρωση των εργασιών της Γενικής Συνέλευσης των μελών. Οι δύο τυχεροί που αναδείχθηκαν\, κέρδισαν δώρα καθώς και ένα γούρι για αφθονία από την ΕΑΣΕ. 						\n				\n					\n		\n				\n			\n								\n				\n			Κοπή Πρωτοχρονιάτικης Πίτας		\n				\n				\n				\n			5 Ιανουαρίου 2023		\n				\n				\n				\n			ΟΤΕ Αcademy
URL:https://ease.gr/event/ease-summer-dinner-2/
LOCATION:Ναυτικός Όμιλος Ελλάδος
CATEGORIES:Κοινωνικές εκδηλώσεις
ATTACH;FMTTYPE=image/jpeg:https://ease.gr/wp-content/uploads/2023/01/2.10-Summer-Dinner-2-scaled.jpg
END:VEVENT
BEGIN:VEVENT
DTSTART;TZID=UTC:20210624T000000
DTEND;TZID=UTC:20210624T000000
DTSTAMP:20260423T020015
CREATED:20230214T134253Z
LAST-MODIFIED:20230220T143039Z
UID:9286-1624492800-1624492800@ease.gr
SUMMARY:Σειρά Ενημερωτικών Παρεμβάσεων για το Σχέδιο Ελλάδα
DESCRIPTION:Κοπή Πρωτοχρονιάτικης Πίτας		\n				\n					\n		\n							\n		\n				\n						\n					\n			\n								\n				\n			\nEvents		\n				\n				\n				\n				\n							Σε ζεστό κλίμα έγινε η κοπή πίτας της ΕΑΣΕ για το νέο έτος\, στο αμφιθέατρο της OTEAcademy\, μετά την ολοκλήρωση των εργασιών της Γενικής Συνέλευσης των μελών. Οι δύο τυχεροί που αναδείχθηκαν\, κέρδισαν δώρα καθώς και ένα γούρι για αφθονία από την ΕΑΣΕ. 						\n				\n					\n		\n				\n			\n								\n				\n			Κοπή Πρωτοχρονιάτικης Πίτας		\n				\n				\n				\n			5 Ιανουαρίου 2023		\n				\n				\n				\n			ΟΤΕ Αcademy
URL:https://ease.gr/event/seira-enimerotikon-paremvaseon-gia-to-schedio-ellada/
LOCATION:Online
CATEGORIES:Διαδικτυακές συναντήσεις
ATTACH;FMTTYPE=image/jpeg:https://ease.gr/wp-content/uploads/2023/02/2.5.-PWC.jpg
END:VEVENT
BEGIN:VEVENT
DTSTART;TZID=UTC:20210617T000000
DTEND;TZID=UTC:20210617T000000
DTSTAMP:20260423T020015
CREATED:20230124T164452Z
LAST-MODIFIED:20230220T143100Z
UID:6909-1623888000-1623888000@ease.gr
SUMMARY:Οι Δρόμοι του Φωτός
DESCRIPTION:Κοπή Πρωτοχρονιάτικης Πίτας		\n				\n					\n		\n							\n		\n				\n						\n					\n			\n								\n				\n			\nEvents		\n				\n				\n				\n				\n							Σε ζεστό κλίμα έγινε η κοπή πίτας της ΕΑΣΕ για το νέο έτος\, στο αμφιθέατρο της OTEAcademy\, μετά την ολοκλήρωση των εργασιών της Γενικής Συνέλευσης των μελών. Οι δύο τυχεροί που αναδείχθηκαν\, κέρδισαν δώρα καθώς και ένα γούρι για αφθονία από την ΕΑΣΕ. 						\n				\n					\n		\n				\n			\n								\n				\n			Κοπή Πρωτοχρονιάτικης Πίτας		\n				\n				\n				\n			5 Ιανουαρίου 2023		\n				\n				\n				\n			ΟΤΕ Αcademy
URL:https://ease.gr/event/31o-synedrio-igesias-ease/
LOCATION:Online
CATEGORIES:Διαδικτυακές συναντήσεις
ATTACH;FMTTYPE=image/jpeg:https://ease.gr/wp-content/uploads/2023/01/2.4.-Webinar-17.6-1.jpg
END:VEVENT
BEGIN:VEVENT
DTSTART;TZID=UTC:20210518T000000
DTEND;TZID=UTC:20210518T000000
DTSTAMP:20260423T020015
CREATED:20230214T093412Z
LAST-MODIFIED:20230220T143120Z
UID:9066-1621296000-1621296000@ease.gr
SUMMARY:Ενέργεια: Προκλήσεις για το μέλλον
DESCRIPTION:Κοπή Πρωτοχρονιάτικης Πίτας		\n				\n					\n		\n							\n		\n				\n						\n					\n			\n								\n				\n			\nEvents		\n				\n				\n				\n				\n							Σε ζεστό κλίμα έγινε η κοπή πίτας της ΕΑΣΕ για το νέο έτος\, στο αμφιθέατρο της OTEAcademy\, μετά την ολοκλήρωση των εργασιών της Γενικής Συνέλευσης των μελών. Οι δύο τυχεροί που αναδείχθηκαν\, κέρδισαν δώρα καθώς και ένα γούρι για αφθονία από την ΕΑΣΕ. 						\n				\n					\n		\n				\n			\n								\n				\n			Κοπή Πρωτοχρονιάτικης Πίτας		\n				\n				\n				\n			5 Ιανουαρίου 2023		\n				\n				\n				\n			ΟΤΕ Αcademy
URL:https://ease.gr/event/eidikes-enimerotikes-ekdiloseis-ease-webinar-live-series/
LOCATION:Online
CATEGORIES:Διαδικτυακές συναντήσεις
ATTACH;FMTTYPE=image/jpeg:https://ease.gr/wp-content/uploads/2023/02/2.4.-Webinar-18.5.jpg
END:VEVENT
BEGIN:VEVENT
DTSTART;TZID=UTC:20210413T000000
DTEND;TZID=UTC:20210413T000000
DTSTAMP:20260423T020015
CREATED:20230214T112450Z
LAST-MODIFIED:20230220T143140Z
UID:9202-1618272000-1618272000@ease.gr
SUMMARY:Real Estate: Επαγγελματικά Ακίνητα Εισοδήματος
DESCRIPTION:Κοπή Πρωτοχρονιάτικης Πίτας		\n				\n					\n		\n							\n		\n				\n						\n					\n			\n								\n				\n			\nEvents		\n				\n				\n				\n				\n							Σε ζεστό κλίμα έγινε η κοπή πίτας της ΕΑΣΕ για το νέο έτος\, στο αμφιθέατρο της OTEAcademy\, μετά την ολοκλήρωση των εργασιών της Γενικής Συνέλευσης των μελών. Οι δύο τυχεροί που αναδείχθηκαν\, κέρδισαν δώρα καθώς και ένα γούρι για αφθονία από την ΕΑΣΕ. 						\n				\n					\n		\n				\n			\n								\n				\n			Κοπή Πρωτοχρονιάτικης Πίτας		\n				\n				\n				\n			5 Ιανουαρίου 2023		\n				\n				\n				\n			ΟΤΕ Αcademy
URL:https://ease.gr/event/real-estate-epangelmatika-akinita-eisodimatos/
LOCATION:Online
CATEGORIES:Διαδικτυακές συναντήσεις
ATTACH;FMTTYPE=image/jpeg:https://ease.gr/wp-content/uploads/2023/01/2.4.-Webinar-13.4-1-1.jpg
END:VEVENT
BEGIN:VEVENT
DTSTART;VALUE=DATE:20210323
DTEND;VALUE=DATE:20210324
DTSTAMP:20260423T020015
CREATED:20230214T065438Z
LAST-MODIFIED:20230220T143159Z
UID:8967-1616457600-1616543999@ease.gr
SUMMARY:Εταιρική Διακυβέρνηση: The clock is ticking
DESCRIPTION:Κοπή Πρωτοχρονιάτικης Πίτας		\n				\n					\n		\n							\n		\n				\n						\n					\n			\n								\n				\n			\nEvents		\n				\n				\n				\n				\n							Σε ζεστό κλίμα έγινε η κοπή πίτας της ΕΑΣΕ για το νέο έτος\, στο αμφιθέατρο της OTEAcademy\, μετά την ολοκλήρωση των εργασιών της Γενικής Συνέλευσης των μελών. Οι δύο τυχεροί που αναδείχθηκαν\, κέρδισαν δώρα καθώς και ένα γούρι για αφθονία από την ΕΑΣΕ. 						\n				\n					\n		\n				\n			\n								\n				\n			Κοπή Πρωτοχρονιάτικης Πίτας		\n				\n				\n				\n			5 Ιανουαρίου 2023		\n				\n				\n				\n			ΟΤΕ Αcademy
URL:https://ease.gr/event/ease-summer-dinner/
LOCATION:Online
CATEGORIES:Διαδικτυακές συναντήσεις
ATTACH;FMTTYPE=image/jpeg:https://ease.gr/wp-content/uploads/2023/02/2.4.-Webinar-23.3-1.jpg
END:VEVENT
BEGIN:VEVENT
DTSTART;VALUE=DATE:20210224
DTEND;VALUE=DATE:20210225
DTSTAMP:20260423T020015
CREATED:20230209T111921Z
LAST-MODIFIED:20230220T143225Z
UID:8437-1614124800-1614211199@ease.gr
SUMMARY:Ετήσια Τακτική Γενική Συνέλευση 2021
DESCRIPTION:Κοπή Πρωτοχρονιάτικης Πίτας		\n				\n					\n		\n							\n		\n				\n						\n					\n			\n								\n				\n			\nEvents		\n				\n				\n				\n				\n							Σε ζεστό κλίμα έγινε η κοπή πίτας της ΕΑΣΕ για το νέο έτος\, στο αμφιθέατρο της OTEAcademy\, μετά την ολοκλήρωση των εργασιών της Γενικής Συνέλευσης των μελών. Οι δύο τυχεροί που αναδείχθηκαν\, κέρδισαν δώρα καθώς και ένα γούρι για αφθονία από την ΕΑΣΕ. 						\n				\n					\n		\n				\n			\n								\n				\n			Κοπή Πρωτοχρονιάτικης Πίτας		\n				\n				\n				\n			5 Ιανουαρίου 2023		\n				\n				\n				\n			ΟΤΕ Αcademy
URL:https://ease.gr/event/etisia-taktiki-geniki-synelefsi-2021/
CATEGORIES:Γενικές Συνελεύσεις
ATTACH;FMTTYPE=image/jpeg:https://ease.gr/wp-content/uploads/2018/08/tyler-callahan-662157-unsplash-e1675089501225.jpg
END:VEVENT
BEGIN:VEVENT
DTSTART;VALUE=DATE:20210215
DTEND;VALUE=DATE:20210216
DTSTAMP:20260423T020015
CREATED:20230214T095905Z
LAST-MODIFIED:20230220T143242Z
UID:8474-1613347200-1613433599@ease.gr
SUMMARY:Η ΔΕΠΑ εδραιώνεται στην ελληνική αγορά ενέργειας και προετοιμάζεται για την ενεργειακή μετάβαση
DESCRIPTION:Κοπή Πρωτοχρονιάτικης Πίτας		\n				\n					\n		\n							\n		\n				\n						\n					\n			\n								\n				\n			\nEvents		\n				\n				\n				\n				\n							Σε ζεστό κλίμα έγινε η κοπή πίτας της ΕΑΣΕ για το νέο έτος\, στο αμφιθέατρο της OTEAcademy\, μετά την ολοκλήρωση των εργασιών της Γενικής Συνέλευσης των μελών. Οι δύο τυχεροί που αναδείχθηκαν\, κέρδισαν δώρα καθώς και ένα γούρι για αφθονία από την ΕΑΣΕ. 						\n				\n					\n		\n				\n			\n								\n				\n			Κοπή Πρωτοχρονιάτικης Πίτας		\n				\n				\n				\n			5 Ιανουαρίου 2023		\n				\n				\n				\n			ΟΤΕ Αcademy
URL:https://ease.gr/event/i-depa-edraionetai-stin-elliniki-agora-energeias-kai-proetoimazetai-gia-tin-energeiaki-metavasi/
LOCATION:Online
CATEGORIES:Διαδικτυακές συναντήσεις
ATTACH;FMTTYPE=image/jpeg:https://ease.gr/wp-content/uploads/2023/02/2.4.-Webinar-15.2-2.jpg
END:VEVENT
BEGIN:VEVENT
DTSTART;VALUE=DATE:20210209
DTEND;VALUE=DATE:20210210
DTSTAMP:20260423T020015
CREATED:20220215T065618Z
LAST-MODIFIED:20230220T143304Z
UID:9862-1612828800-1612915199@ease.gr
SUMMARY:Enterprise Greece Invest and Trade
DESCRIPTION:Κοπή Πρωτοχρονιάτικης Πίτας		\n				\n					\n		\n							\n		\n				\n						\n					\n			\n								\n				\n			\nEvents		\n				\n				\n				\n				\n							Σε ζεστό κλίμα έγινε η κοπή πίτας της ΕΑΣΕ για το νέο έτος\, στο αμφιθέατρο της OTEAcademy\, μετά την ολοκλήρωση των εργασιών της Γενικής Συνέλευσης των μελών. Οι δύο τυχεροί που αναδείχθηκαν\, κέρδισαν δώρα καθώς και ένα γούρι για αφθονία από την ΕΑΣΕ. 						\n				\n					\n		\n				\n			\n								\n				\n			Κοπή Πρωτοχρονιάτικης Πίτας		\n				\n				\n				\n			5 Ιανουαρίου 2023		\n				\n				\n				\n			ΟΤΕ Αcademy
URL:https://ease.gr/event/enterprise-greece-invest-and-trade/
LOCATION:Online
CATEGORIES:Διαδικτυακές συναντήσεις
ATTACH;FMTTYPE=image/jpeg:https://ease.gr/wp-content/uploads/2023/02/2.5.-Enterprise_Greece_Invitation_final-page-001.jpg
END:VEVENT
BEGIN:VEVENT
DTSTART;TZID=UTC:20210126T000000
DTEND;TZID=UTC:20210126T000000
DTSTAMP:20260423T020015
CREATED:20230214T112831Z
LAST-MODIFIED:20230220T143320Z
UID:9184-1611619200-1611619200@ease.gr
SUMMARY:Post Covid prospects of the Real Estate Market in Greece
DESCRIPTION:Κοπή Πρωτοχρονιάτικης Πίτας		\n				\n					\n		\n							\n		\n				\n						\n					\n			\n								\n				\n			\nEvents		\n				\n				\n				\n				\n							Σε ζεστό κλίμα έγινε η κοπή πίτας της ΕΑΣΕ για το νέο έτος\, στο αμφιθέατρο της OTEAcademy\, μετά την ολοκλήρωση των εργασιών της Γενικής Συνέλευσης των μελών. Οι δύο τυχεροί που αναδείχθηκαν\, κέρδισαν δώρα καθώς και ένα γούρι για αφθονία από την ΕΑΣΕ. 						\n				\n					\n		\n				\n			\n								\n				\n			Κοπή Πρωτοχρονιάτικης Πίτας		\n				\n				\n				\n			5 Ιανουαρίου 2023		\n				\n				\n				\n			ΟΤΕ Αcademy
URL:https://ease.gr/event/post-covid-prospects-of-the-real-estate-market-in-greece/
LOCATION:Online
CATEGORIES:Διαδικτυακές συναντήσεις
ATTACH;FMTTYPE=image/jpeg:https://ease.gr/wp-content/uploads/2023/02/2.4.-Webinar-26.1-2-1.jpg
END:VEVENT
BEGIN:VEVENT
DTSTART;TZID=UTC:20190402T090000
DTEND;TZID=UTC:20190402T150000
DTSTAMP:20260423T020015
CREATED:20251222T090246Z
LAST-MODIFIED:20251222T090912Z
UID:17724-1554195600-1554217200@ease.gr
SUMMARY:Γέφυρες Συνεργασίας 2019
DESCRIPTION:Κοπή Πρωτοχρονιάτικης Πίτας		\n				\n					\n		\n							\n		\n				\n						\n					\n			\n								\n				\n			\nEvents		\n				\n				\n				\n				\n							Σε ζεστό κλίμα έγινε η κοπή πίτας της ΕΑΣΕ για το νέο έτος\, στο αμφιθέατρο της OTEAcademy\, μετά την ολοκλήρωση των εργασιών της Γενικής Συνέλευσης των μελών. Οι δύο τυχεροί που αναδείχθηκαν\, κέρδισαν δώρα καθώς και ένα γούρι για αφθονία από την ΕΑΣΕ. 						\n				\n					\n		\n				\n			\n								\n				\n			Κοπή Πρωτοχρονιάτικης Πίτας		\n				\n				\n				\n			5 Ιανουαρίου 2023		\n				\n				\n				\n			ΟΤΕ Αcademy
URL:https://ease.gr/event/gefyres-synergasias-2019/
CATEGORIES:Θεσμικές Εκδηλώσεις
ATTACH;FMTTYPE=image/jpeg:https://ease.gr/wp-content/uploads/2025/12/ΕΑΣΕ_28.3.2019_Α-scaled.jpg
END:VEVENT
END:VCALENDAR