BEGIN:VCALENDAR
VERSION:2.0
PRODID:-//EASE - ECPv6.15.18//NONSGML v1.0//EN
CALSCALE:GREGORIAN
METHOD:PUBLISH
X-WR-CALNAME:EASE
X-ORIGINAL-URL:https://ease.gr
X-WR-CALDESC:Events for EASE
REFRESH-INTERVAL;VALUE=DURATION:PT1H
X-Robots-Tag:noindex
X-PUBLISHED-TTL:PT1H
BEGIN:VTIMEZONE
TZID:UTC
BEGIN:STANDARD
TZOFFSETFROM:+0000
TZOFFSETTO:+0000
TZNAME:UTC
DTSTART:20180101T000000
END:STANDARD
END:VTIMEZONE
BEGIN:VEVENT
DTSTART;VALUE=DATE:20210224
DTEND;VALUE=DATE:20210225
DTSTAMP:20260425T165137
CREATED:20230209T111921Z
LAST-MODIFIED:20230220T143225Z
UID:8437-1614124800-1614211199@ease.gr
SUMMARY:Ετήσια Τακτική Γενική Συνέλευση 2021
DESCRIPTION:Better presentations lead to better decisions		\n				\n					\n		\n							\n		\n				\n						\n					\n			\n								\n				\n			\nEvents		\n				\n				\n					\n		\n							\n		\n				\n						\n					\n			\n								\n				\n			Espresso for the Mind		\n				\n				\n				\n							The Leadership Routes Team hosted a webinar featuring speaker Edouard Gruwez on the topic “Better presentations lead to better decisions.” Executive and board meetings are critical for strategic decision-making. During the session\, participants explored how to focus on what truly matters—quickly gaining a correct high-level overview without losing sight of essential details. Edouard emphasized the importance of efficient reporting\, avoiding unnecessary complexity or low-quality data. He shared how precision in reporting and presentations contributes to better decisions. While the topic is broad\, he offered key insights to help senior leaders stay well-informed in the most effective way. 						\n				\n					\n		\n				\n			\n								\n				\n			Espresso for the Mind 		\n				\n				\n				\n			06/05/202509:30 - 11:00		\n				\n				\n				\n			WEBINAR		\n				\n				\n				\n			Edouard Gruwez will present in english		\n				\n					\n		\n							\n		\n				\n						\n					\n			\n								\n				\n			Ομιλητές		\n				\n				\n				\n					\n\n\nEdouard Gruwez\nΜάθετε περισσότερα
URL:https://ease.gr/event/etisia-taktiki-geniki-synelefsi-2021/
CATEGORIES:Γενικές Συνελεύσεις
ATTACH;FMTTYPE=image/jpeg:https://ease.gr/wp-content/uploads/2018/08/tyler-callahan-662157-unsplash-e1675089501225.jpg
END:VEVENT
BEGIN:VEVENT
DTSTART;VALUE=DATE:20210215
DTEND;VALUE=DATE:20210216
DTSTAMP:20260425T165137
CREATED:20230214T095905Z
LAST-MODIFIED:20230220T143242Z
UID:8474-1613347200-1613433599@ease.gr
SUMMARY:Η ΔΕΠΑ εδραιώνεται στην ελληνική αγορά ενέργειας και προετοιμάζεται για την ενεργειακή μετάβαση
DESCRIPTION:Better presentations lead to better decisions		\n				\n					\n		\n							\n		\n				\n						\n					\n			\n								\n				\n			\nEvents		\n				\n				\n					\n		\n							\n		\n				\n						\n					\n			\n								\n				\n			Espresso for the Mind		\n				\n				\n				\n							The Leadership Routes Team hosted a webinar featuring speaker Edouard Gruwez on the topic “Better presentations lead to better decisions.” Executive and board meetings are critical for strategic decision-making. During the session\, participants explored how to focus on what truly matters—quickly gaining a correct high-level overview without losing sight of essential details. Edouard emphasized the importance of efficient reporting\, avoiding unnecessary complexity or low-quality data. He shared how precision in reporting and presentations contributes to better decisions. While the topic is broad\, he offered key insights to help senior leaders stay well-informed in the most effective way. 						\n				\n					\n		\n				\n			\n								\n				\n			Espresso for the Mind 		\n				\n				\n				\n			06/05/202509:30 - 11:00		\n				\n				\n				\n			WEBINAR		\n				\n				\n				\n			Edouard Gruwez will present in english		\n				\n					\n		\n							\n		\n				\n						\n					\n			\n								\n				\n			Ομιλητές		\n				\n				\n				\n					\n\n\nEdouard Gruwez\nΜάθετε περισσότερα
URL:https://ease.gr/event/i-depa-edraionetai-stin-elliniki-agora-energeias-kai-proetoimazetai-gia-tin-energeiaki-metavasi/
LOCATION:Online
CATEGORIES:Διαδικτυακές συναντήσεις
ATTACH;FMTTYPE=image/jpeg:https://ease.gr/wp-content/uploads/2023/02/2.4.-Webinar-15.2-2.jpg
END:VEVENT
BEGIN:VEVENT
DTSTART;VALUE=DATE:20210209
DTEND;VALUE=DATE:20210210
DTSTAMP:20260425T165137
CREATED:20220215T065618Z
LAST-MODIFIED:20230220T143304Z
UID:9862-1612828800-1612915199@ease.gr
SUMMARY:Enterprise Greece Invest and Trade
DESCRIPTION:Better presentations lead to better decisions		\n				\n					\n		\n							\n		\n				\n						\n					\n			\n								\n				\n			\nEvents		\n				\n				\n					\n		\n							\n		\n				\n						\n					\n			\n								\n				\n			Espresso for the Mind		\n				\n				\n				\n							The Leadership Routes Team hosted a webinar featuring speaker Edouard Gruwez on the topic “Better presentations lead to better decisions.” Executive and board meetings are critical for strategic decision-making. During the session\, participants explored how to focus on what truly matters—quickly gaining a correct high-level overview without losing sight of essential details. Edouard emphasized the importance of efficient reporting\, avoiding unnecessary complexity or low-quality data. He shared how precision in reporting and presentations contributes to better decisions. While the topic is broad\, he offered key insights to help senior leaders stay well-informed in the most effective way. 						\n				\n					\n		\n				\n			\n								\n				\n			Espresso for the Mind 		\n				\n				\n				\n			06/05/202509:30 - 11:00		\n				\n				\n				\n			WEBINAR		\n				\n				\n				\n			Edouard Gruwez will present in english		\n				\n					\n		\n							\n		\n				\n						\n					\n			\n								\n				\n			Ομιλητές		\n				\n				\n				\n					\n\n\nEdouard Gruwez\nΜάθετε περισσότερα
URL:https://ease.gr/event/enterprise-greece-invest-and-trade/
LOCATION:Online
CATEGORIES:Διαδικτυακές συναντήσεις
ATTACH;FMTTYPE=image/jpeg:https://ease.gr/wp-content/uploads/2023/02/2.5.-Enterprise_Greece_Invitation_final-page-001.jpg
END:VEVENT
BEGIN:VEVENT
DTSTART;TZID=UTC:20210126T000000
DTEND;TZID=UTC:20210126T000000
DTSTAMP:20260425T165137
CREATED:20230214T112831Z
LAST-MODIFIED:20230220T143320Z
UID:9184-1611619200-1611619200@ease.gr
SUMMARY:Post Covid prospects of the Real Estate Market in Greece
DESCRIPTION:Better presentations lead to better decisions		\n				\n					\n		\n							\n		\n				\n						\n					\n			\n								\n				\n			\nEvents		\n				\n				\n					\n		\n							\n		\n				\n						\n					\n			\n								\n				\n			Espresso for the Mind		\n				\n				\n				\n							The Leadership Routes Team hosted a webinar featuring speaker Edouard Gruwez on the topic “Better presentations lead to better decisions.” Executive and board meetings are critical for strategic decision-making. During the session\, participants explored how to focus on what truly matters—quickly gaining a correct high-level overview without losing sight of essential details. Edouard emphasized the importance of efficient reporting\, avoiding unnecessary complexity or low-quality data. He shared how precision in reporting and presentations contributes to better decisions. While the topic is broad\, he offered key insights to help senior leaders stay well-informed in the most effective way. 						\n				\n					\n		\n				\n			\n								\n				\n			Espresso for the Mind 		\n				\n				\n				\n			06/05/202509:30 - 11:00		\n				\n				\n				\n			WEBINAR		\n				\n				\n				\n			Edouard Gruwez will present in english		\n				\n					\n		\n							\n		\n				\n						\n					\n			\n								\n				\n			Ομιλητές		\n				\n				\n				\n					\n\n\nEdouard Gruwez\nΜάθετε περισσότερα
URL:https://ease.gr/event/post-covid-prospects-of-the-real-estate-market-in-greece/
LOCATION:Online
CATEGORIES:Διαδικτυακές συναντήσεις
ATTACH;FMTTYPE=image/jpeg:https://ease.gr/wp-content/uploads/2023/02/2.4.-Webinar-26.1-2-1.jpg
END:VEVENT
BEGIN:VEVENT
DTSTART;TZID=UTC:20190402T090000
DTEND;TZID=UTC:20190402T150000
DTSTAMP:20260425T165137
CREATED:20251222T090246Z
LAST-MODIFIED:20251222T090912Z
UID:17724-1554195600-1554217200@ease.gr
SUMMARY:Γέφυρες Συνεργασίας 2019
DESCRIPTION:Better presentations lead to better decisions		\n				\n					\n		\n							\n		\n				\n						\n					\n			\n								\n				\n			\nEvents		\n				\n				\n					\n		\n							\n		\n				\n						\n					\n			\n								\n				\n			Espresso for the Mind		\n				\n				\n				\n							The Leadership Routes Team hosted a webinar featuring speaker Edouard Gruwez on the topic “Better presentations lead to better decisions.” Executive and board meetings are critical for strategic decision-making. During the session\, participants explored how to focus on what truly matters—quickly gaining a correct high-level overview without losing sight of essential details. Edouard emphasized the importance of efficient reporting\, avoiding unnecessary complexity or low-quality data. He shared how precision in reporting and presentations contributes to better decisions. While the topic is broad\, he offered key insights to help senior leaders stay well-informed in the most effective way. 						\n				\n					\n		\n				\n			\n								\n				\n			Espresso for the Mind 		\n				\n				\n				\n			06/05/202509:30 - 11:00		\n				\n				\n				\n			WEBINAR		\n				\n				\n				\n			Edouard Gruwez will present in english		\n				\n					\n		\n							\n		\n				\n						\n					\n			\n								\n				\n			Ομιλητές		\n				\n				\n				\n					\n\n\nEdouard Gruwez\nΜάθετε περισσότερα
URL:https://ease.gr/event/gefyres-synergasias-2019/
CATEGORIES:Θεσμικές Εκδηλώσεις
ATTACH;FMTTYPE=image/jpeg:https://ease.gr/wp-content/uploads/2025/12/ΕΑΣΕ_28.3.2019_Α-scaled.jpg
END:VEVENT
END:VCALENDAR