BEGIN:VCALENDAR
VERSION:2.0
PRODID:-//EASE - ECPv6.15.18//NONSGML v1.0//EN
CALSCALE:GREGORIAN
METHOD:PUBLISH
X-WR-CALNAME:EASE
X-ORIGINAL-URL:https://ease.gr
X-WR-CALDESC:Events for EASE
REFRESH-INTERVAL;VALUE=DURATION:PT1H
X-Robots-Tag:noindex
X-PUBLISHED-TTL:PT1H
BEGIN:VTIMEZONE
TZID:Europe/Athens
BEGIN:DAYLIGHT
TZOFFSETFROM:+0200
TZOFFSETTO:+0300
TZNAME:EEST
DTSTART:20220327T010000
END:DAYLIGHT
BEGIN:STANDARD
TZOFFSETFROM:+0300
TZOFFSETTO:+0200
TZNAME:EET
DTSTART:20221030T010000
END:STANDARD
BEGIN:DAYLIGHT
TZOFFSETFROM:+0200
TZOFFSETTO:+0300
TZNAME:EEST
DTSTART:20230326T010000
END:DAYLIGHT
BEGIN:STANDARD
TZOFFSETFROM:+0300
TZOFFSETTO:+0200
TZNAME:EET
DTSTART:20231029T010000
END:STANDARD
BEGIN:DAYLIGHT
TZOFFSETFROM:+0200
TZOFFSETTO:+0300
TZNAME:EEST
DTSTART:20240331T010000
END:DAYLIGHT
BEGIN:STANDARD
TZOFFSETFROM:+0300
TZOFFSETTO:+0200
TZNAME:EET
DTSTART:20241027T010000
END:STANDARD
END:VTIMEZONE
BEGIN:VTIMEZONE
TZID:UTC
BEGIN:STANDARD
TZOFFSETFROM:+0000
TZOFFSETTO:+0000
TZNAME:UTC
DTSTART:20220101T000000
END:STANDARD
END:VTIMEZONE
BEGIN:VEVENT
DTSTART;TZID=Europe/Athens:20230502T093000
DTEND;TZID=Europe/Athens:20230502T110000
DTSTAMP:20260424T004412
CREATED:20240104T105516Z
LAST-MODIFIED:20240104T105516Z
UID:11590-1683019800-1683025200@ease.gr
SUMMARY:Espresso for the mind | Leadership | The Nameless King: Ιστορίες Ηγεσίας από την Αρχαία Ελλάδα
DESCRIPTION:Events		\n				\n				\n					\n		\n							\n		\n				\n						\n					\n			\n								\n				\n			ΝΕΑ ΤΑΙΝΙΑ | Avant Premiere για τα μέλη της ΕΑΣΕ!\n		\n				\n				\n				\n							Η Ομάδα Δράσης “The Happenings Hub” διοργανώνει την Avant Premiere της ταινίας “The Devil Wears Prada II”\, στις Gold Class αίθουσες των Village Cinemas\, στο The Mall Athens. Η εκδήλωση απευθύνεται στα μέλη της ΕΑΣΕ και τους/τις συνοδούς τους. Περιορισμένος αριθμός θέσεων διατίθεται με σειρά προτεραιότητας. 						\n				\n					\n		\n				\n			\n								\n				\n			The Devil wears Prada II\n		\n				\n				\n				\n			30/04/202618:00 - 20:00 		\n				\n				\n				\n			17:00 Networking		\n				\n				\n				\n			Village Cinemas\, The Mall Athens
URL:https://ease.gr/event/espresso-for-the-mind-leadership-the-nameless-king-istories-igesias-apo-tin-archaia-ellada/
CATEGORIES:Διαδικτυακές συναντήσεις
ATTACH;FMTTYPE=image/jpeg:https://ease.gr/wp-content/uploads/2024/01/Espresso-2May.jpg
END:VEVENT
BEGIN:VEVENT
DTSTART;TZID=Europe/Athens:20230511T100000
DTEND;TZID=Europe/Athens:20230511T123000
DTSTAMP:20260424T004412
CREATED:20240104T133009Z
LAST-MODIFIED:20251013T160150Z
UID:11618-1683799200-1683808200@ease.gr
SUMMARY:Συνάντηση Κορυφής στη Lamda Development
DESCRIPTION:Events		\n				\n				\n					\n		\n							\n		\n				\n						\n					\n			\n								\n				\n			ΝΕΑ ΤΑΙΝΙΑ | Avant Premiere για τα μέλη της ΕΑΣΕ!\n		\n				\n				\n				\n							Η Ομάδα Δράσης “The Happenings Hub” διοργανώνει την Avant Premiere της ταινίας “The Devil Wears Prada II”\, στις Gold Class αίθουσες των Village Cinemas\, στο The Mall Athens. Η εκδήλωση απευθύνεται στα μέλη της ΕΑΣΕ και τους/τις συνοδούς τους. Περιορισμένος αριθμός θέσεων διατίθεται με σειρά προτεραιότητας. 						\n				\n					\n		\n				\n			\n								\n				\n			The Devil wears Prada II\n		\n				\n				\n				\n			30/04/202618:00 - 20:00 		\n				\n				\n				\n			17:00 Networking		\n				\n				\n				\n			Village Cinemas\, The Mall Athens
URL:https://ease.gr/event/synantisi-koryfis-sti-lamda-development/
LOCATION:Ellinikon Experience Centre
CATEGORIES:Συναντήσεις ηγεσίας
ATTACH;FMTTYPE=image/jpeg:https://ease.gr/wp-content/uploads/2024/01/Lamda-Dev-11-3.jpg
END:VEVENT
BEGIN:VEVENT
DTSTART;VALUE=DATE:20230526
DTEND;VALUE=DATE:20230528
DTSTAMP:20260424T004412
CREATED:20230220T135454Z
LAST-MODIFIED:20250828T073538Z
UID:10405-1685059200-1685231999@ease.gr
SUMMARY:34o Συνέδριο Ηγεσίας ΕΑΣΕ
DESCRIPTION:Events		\n				\n				\n					\n		\n							\n		\n				\n						\n					\n			\n								\n				\n			ΝΕΑ ΤΑΙΝΙΑ | Avant Premiere για τα μέλη της ΕΑΣΕ!\n		\n				\n				\n				\n							Η Ομάδα Δράσης “The Happenings Hub” διοργανώνει την Avant Premiere της ταινίας “The Devil Wears Prada II”\, στις Gold Class αίθουσες των Village Cinemas\, στο The Mall Athens. Η εκδήλωση απευθύνεται στα μέλη της ΕΑΣΕ και τους/τις συνοδούς τους. Περιορισμένος αριθμός θέσεων διατίθεται με σειρά προτεραιότητας. 						\n				\n					\n		\n				\n			\n								\n				\n			The Devil wears Prada II\n		\n				\n				\n				\n			30/04/202618:00 - 20:00 		\n				\n				\n				\n			17:00 Networking		\n				\n				\n				\n			Village Cinemas\, The Mall Athens
URL:https://ease.gr/event/34o-synedrio-igesias-ease/
LOCATION:Μέγαρο Μουσικής Αθηνών
CATEGORIES:Συνέδρια,Συνέδρια Ηγεσίας
ATTACH;FMTTYPE=image/jpeg:https://ease.gr/wp-content/uploads/2023/02/EASE_34_Logo_OK_Final_-as-of-3.11.2022.jpg
END:VEVENT
BEGIN:VEVENT
DTSTART;TZID=Europe/Athens:20230529T170000
DTEND;TZID=Europe/Athens:20230529T193000
DTSTAMP:20260424T004412
CREATED:20240104T133610Z
LAST-MODIFIED:20251013T160937Z
UID:11631-1685379600-1685388600@ease.gr
SUMMARY:Συνάντηση Κορυφής με το Εθνικό Επενδυτικό Ταμείο
DESCRIPTION:Events		\n				\n				\n					\n		\n							\n		\n				\n						\n					\n			\n								\n				\n			ΝΕΑ ΤΑΙΝΙΑ | Avant Premiere για τα μέλη της ΕΑΣΕ!\n		\n				\n				\n				\n							Η Ομάδα Δράσης “The Happenings Hub” διοργανώνει την Avant Premiere της ταινίας “The Devil Wears Prada II”\, στις Gold Class αίθουσες των Village Cinemas\, στο The Mall Athens. Η εκδήλωση απευθύνεται στα μέλη της ΕΑΣΕ και τους/τις συνοδούς τους. Περιορισμένος αριθμός θέσεων διατίθεται με σειρά προτεραιότητας. 						\n				\n					\n		\n				\n			\n								\n				\n			The Devil wears Prada II\n		\n				\n				\n				\n			30/04/202618:00 - 20:00 		\n				\n				\n				\n			17:00 Networking		\n				\n				\n				\n			Village Cinemas\, The Mall Athens
URL:https://ease.gr/event/synantisi-koryfis-me-to-ethniko-ependytiko-tameio/
CATEGORIES:Συναντήσεις ηγεσίας
ATTACH;FMTTYPE=image/jpeg:https://ease.gr/wp-content/uploads/2024/01/YPERTAMEIO-29-2.jpg
END:VEVENT
BEGIN:VEVENT
DTSTART;TZID=Europe/Athens:20230530T200000
DTEND;TZID=Europe/Athens:20230531T010000
DTSTAMP:20260424T004412
CREATED:20230530T104411Z
LAST-MODIFIED:20250828T090820Z
UID:11187-1685476800-1685494800@ease.gr
SUMMARY:Summer Dinner ΕΑΣΕ
DESCRIPTION:Events		\n				\n				\n					\n		\n							\n		\n				\n						\n					\n			\n								\n				\n			ΝΕΑ ΤΑΙΝΙΑ | Avant Premiere για τα μέλη της ΕΑΣΕ!\n		\n				\n				\n				\n							Η Ομάδα Δράσης “The Happenings Hub” διοργανώνει την Avant Premiere της ταινίας “The Devil Wears Prada II”\, στις Gold Class αίθουσες των Village Cinemas\, στο The Mall Athens. Η εκδήλωση απευθύνεται στα μέλη της ΕΑΣΕ και τους/τις συνοδούς τους. Περιορισμένος αριθμός θέσεων διατίθεται με σειρά προτεραιότητας. 						\n				\n					\n		\n				\n			\n								\n				\n			The Devil wears Prada II\n		\n				\n				\n				\n			30/04/202618:00 - 20:00 		\n				\n				\n				\n			17:00 Networking		\n				\n				\n				\n			Village Cinemas\, The Mall Athens
URL:https://ease.gr/event/summer-dinner-ease/
LOCATION:Ecali Club\, Λόφου 15\, Εκάλη\, 14578
CATEGORIES:Κοινωνικές εκδηλώσεις
ATTACH;FMTTYPE=image/jpeg:https://ease.gr/wp-content/uploads/2023/05/Invitation_NEW.docx-page-001.jpg
END:VEVENT
BEGIN:VEVENT
DTSTART;TZID=Europe/Athens:20230531T170000
DTEND;TZID=Europe/Athens:20230531T193000
DTSTAMP:20260424T004412
CREATED:20240104T134058Z
LAST-MODIFIED:20251013T160140Z
UID:11639-1685552400-1685561400@ease.gr
SUMMARY:Συνάντηση Κορυφής στην Αθηναϊκή Ζυθοποιία
DESCRIPTION:Events		\n				\n				\n					\n		\n							\n		\n				\n						\n					\n			\n								\n				\n			ΝΕΑ ΤΑΙΝΙΑ | Avant Premiere για τα μέλη της ΕΑΣΕ!\n		\n				\n				\n				\n							Η Ομάδα Δράσης “The Happenings Hub” διοργανώνει την Avant Premiere της ταινίας “The Devil Wears Prada II”\, στις Gold Class αίθουσες των Village Cinemas\, στο The Mall Athens. Η εκδήλωση απευθύνεται στα μέλη της ΕΑΣΕ και τους/τις συνοδούς τους. Περιορισμένος αριθμός θέσεων διατίθεται με σειρά προτεραιότητας. 						\n				\n					\n		\n				\n			\n								\n				\n			The Devil wears Prada II\n		\n				\n				\n				\n			30/04/202618:00 - 20:00 		\n				\n				\n				\n			17:00 Networking		\n				\n				\n				\n			Village Cinemas\, The Mall Athens
URL:https://ease.gr/event/synantisi-koryfis-stin-athinaiki-zythopoiia/
LOCATION:ΑΘΗΝΕΟ\, χώρος δημιουργικής ζυθοποίιας
CATEGORIES:Συναντήσεις ηγεσίας
ATTACH;FMTTYPE=image/jpeg:https://ease.gr/wp-content/uploads/2024/01/Synantisi-Korufis-Athinaiki-Zithopoiia-31-1.jpg
END:VEVENT
END:VCALENDAR