BEGIN:VCALENDAR
VERSION:2.0
PRODID:-//EASE - ECPv6.15.18//NONSGML v1.0//EN
CALSCALE:GREGORIAN
METHOD:PUBLISH
X-ORIGINAL-URL:https://ease.gr
X-WR-CALDESC:Events for EASE
REFRESH-INTERVAL;VALUE=DURATION:PT1H
X-Robots-Tag:noindex
X-PUBLISHED-TTL:PT1H
BEGIN:VTIMEZONE
TZID:Europe/Athens
BEGIN:DAYLIGHT
TZOFFSETFROM:+0200
TZOFFSETTO:+0300
TZNAME:EEST
DTSTART:20230326T010000
END:DAYLIGHT
BEGIN:STANDARD
TZOFFSETFROM:+0300
TZOFFSETTO:+0200
TZNAME:EET
DTSTART:20231029T010000
END:STANDARD
BEGIN:DAYLIGHT
TZOFFSETFROM:+0200
TZOFFSETTO:+0300
TZNAME:EEST
DTSTART:20240331T010000
END:DAYLIGHT
BEGIN:STANDARD
TZOFFSETFROM:+0300
TZOFFSETTO:+0200
TZNAME:EET
DTSTART:20241027T010000
END:STANDARD
BEGIN:DAYLIGHT
TZOFFSETFROM:+0200
TZOFFSETTO:+0300
TZNAME:EEST
DTSTART:20250330T010000
END:DAYLIGHT
BEGIN:STANDARD
TZOFFSETFROM:+0300
TZOFFSETTO:+0200
TZNAME:EET
DTSTART:20251026T010000
END:STANDARD
END:VTIMEZONE
BEGIN:VTIMEZONE
TZID:UTC
BEGIN:STANDARD
TZOFFSETFROM:+0000
TZOFFSETTO:+0000
TZNAME:UTC
DTSTART:20230101T000000
END:STANDARD
END:VTIMEZONE
BEGIN:VEVENT
DTSTART;TZID=Europe/Athens:20241002T170000
DTEND;TZID=Europe/Athens:20241002T203000
DTSTAMP:20260422T190248
CREATED:20240917T071639Z
LAST-MODIFIED:20250828T090424Z
UID:12983-1727888400-1727901000@ease.gr
SUMMARY:JOKER | Avant Premiere για τα Μέλη της ΕΑΣΕ
DESCRIPTION:Events		\n				\n				\n					\n		\n							\n		\n				\n						\n					\n			\n								\n				\n			ΝΕΑ ΤΑΙΝΙΑ | Avant Premiere για τα μέλη της ΕΑΣΕ!\n		\n				\n				\n				\n							Η Ομάδα Δράσης “The Happenings Hub” διοργανώνει την Avant Premiere της ταινίας “The Devil Wears Prada II”\, στις Gold Class αίθουσες των Village Cinemas\, στο The Mall Athens. Η εκδήλωση απευθύνεται στα μέλη της ΕΑΣΕ και τους/τις συνοδούς τους. Περιορισμένος αριθμός θέσεων διατίθεται με σειρά προτεραιότητας. 						\n				\n					\n		\n				\n			\n								\n				\n			The Devil wears Prada II\n		\n				\n				\n				\n			30/04/202618:00 - 20:00 		\n				\n				\n				\n			17:00 Networking		\n				\n				\n				\n			Village Cinemas\, The Mall Athens
URL:https://ease.gr/event/joker-avant-premiere-gia-ta-meli-tis-ease/
LOCATION:Village Cinemas at the Mall Athens
CATEGORIES:Κοινωνικές εκδηλώσεις
ATTACH;FMTTYPE=image/jpeg:https://ease.gr/wp-content/uploads/2024/09/1-scaled.jpg
END:VEVENT
BEGIN:VEVENT
DTSTART;TZID=Europe/Athens:20241012T190000
DTEND;TZID=Europe/Athens:20241012T230000
DTSTAMP:20260422T190248
CREATED:20240926T124406Z
LAST-MODIFIED:20250808T133637Z
UID:13115-1728759600-1728774000@ease.gr
SUMMARY:12.10.24 | Αποκλειστική ξενάγηση στο Αστεροσκοπείο και δείπνο στο εστιατόριο Caravin
DESCRIPTION:Events		\n				\n				\n					\n		\n							\n		\n				\n						\n					\n			\n								\n				\n			ΝΕΑ ΤΑΙΝΙΑ | Avant Premiere για τα μέλη της ΕΑΣΕ!\n		\n				\n				\n				\n							Η Ομάδα Δράσης “The Happenings Hub” διοργανώνει την Avant Premiere της ταινίας “The Devil Wears Prada II”\, στις Gold Class αίθουσες των Village Cinemas\, στο The Mall Athens. Η εκδήλωση απευθύνεται στα μέλη της ΕΑΣΕ και τους/τις συνοδούς τους. Περιορισμένος αριθμός θέσεων διατίθεται με σειρά προτεραιότητας. 						\n				\n					\n		\n				\n			\n								\n				\n			The Devil wears Prada II\n		\n				\n				\n				\n			30/04/202618:00 - 20:00 		\n				\n				\n				\n			17:00 Networking		\n				\n				\n				\n			Village Cinemas\, The Mall Athens
URL:https://ease.gr/event/12-10-24-apokleistiki-xenagisi-sto-asteroskopeio-kai-deipno-sto-estiatorio-caravin/
CATEGORIES:Κοινωνικές εκδηλώσεις
ATTACH;FMTTYPE=image/jpeg:https://ease.gr/wp-content/uploads/2024/09/asteroskopeio-03.jpg
END:VEVENT
BEGIN:VEVENT
DTSTART;TZID=Europe/Athens:20241015T173000
DTEND;TZID=Europe/Athens:20241015T193000
DTSTAMP:20260422T190248
CREATED:20240923T074626Z
LAST-MODIFIED:20250808T135001Z
UID:13076-1729013400-1729020600@ease.gr
SUMMARY:Get on Board\, Stay Connected!
DESCRIPTION:Events		\n				\n				\n					\n		\n							\n		\n				\n						\n					\n			\n								\n				\n			ΝΕΑ ΤΑΙΝΙΑ | Avant Premiere για τα μέλη της ΕΑΣΕ!\n		\n				\n				\n				\n							Η Ομάδα Δράσης “The Happenings Hub” διοργανώνει την Avant Premiere της ταινίας “The Devil Wears Prada II”\, στις Gold Class αίθουσες των Village Cinemas\, στο The Mall Athens. Η εκδήλωση απευθύνεται στα μέλη της ΕΑΣΕ και τους/τις συνοδούς τους. Περιορισμένος αριθμός θέσεων διατίθεται με σειρά προτεραιότητας. 						\n				\n					\n		\n				\n			\n								\n				\n			The Devil wears Prada II\n		\n				\n				\n				\n			30/04/202618:00 - 20:00 		\n				\n				\n				\n			17:00 Networking		\n				\n				\n				\n			Village Cinemas\, The Mall Athens
URL:https://ease.gr/event/get-on-board-stay-connected-3/
CATEGORIES:Κοινωνικές εκδηλώσεις
ATTACH;FMTTYPE=image/png:https://ease.gr/wp-content/uploads/2025/07/getonboard_THUMBNAIL_532X328.png
END:VEVENT
BEGIN:VEVENT
DTSTART;TZID=UTC:20241024T093000
DTEND;TZID=UTC:20241024T110000
DTSTAMP:20260422T190248
CREATED:20241007T132601Z
LAST-MODIFIED:20250729T091714Z
UID:13231-1729762200-1729767600@ease.gr
SUMMARY:INSIGHTS FOR LEADERS AND BUSINESS GROWTH
DESCRIPTION:Events		\n				\n				\n					\n		\n							\n		\n				\n						\n					\n			\n								\n				\n			ΝΕΑ ΤΑΙΝΙΑ | Avant Premiere για τα μέλη της ΕΑΣΕ!\n		\n				\n				\n				\n							Η Ομάδα Δράσης “The Happenings Hub” διοργανώνει την Avant Premiere της ταινίας “The Devil Wears Prada II”\, στις Gold Class αίθουσες των Village Cinemas\, στο The Mall Athens. Η εκδήλωση απευθύνεται στα μέλη της ΕΑΣΕ και τους/τις συνοδούς τους. Περιορισμένος αριθμός θέσεων διατίθεται με σειρά προτεραιότητας. 						\n				\n					\n		\n				\n			\n								\n				\n			The Devil wears Prada II\n		\n				\n				\n				\n			30/04/202618:00 - 20:00 		\n				\n				\n				\n			17:00 Networking		\n				\n				\n				\n			Village Cinemas\, The Mall Athens
URL:https://ease.gr/event/insights-for-leaders-and-business-growth/
LOCATION:Online
CATEGORIES:Διαδικτυακές συναντήσεις
ATTACH;FMTTYPE=image/jpeg:https://ease.gr/wp-content/uploads/2024/10/esg-photo.jpg
END:VEVENT
END:VCALENDAR