BEGIN:VCALENDAR
VERSION:2.0
PRODID:-//EASE - ECPv6.15.18//NONSGML v1.0//EN
CALSCALE:GREGORIAN
METHOD:PUBLISH
X-WR-CALNAME:EASE
X-ORIGINAL-URL:https://ease.gr
X-WR-CALDESC:Events for EASE
REFRESH-INTERVAL;VALUE=DURATION:PT1H
X-Robots-Tag:noindex
X-PUBLISHED-TTL:PT1H
BEGIN:VTIMEZONE
TZID:UTC
BEGIN:STANDARD
TZOFFSETFROM:+0000
TZOFFSETTO:+0000
TZNAME:UTC
DTSTART:20240101T000000
END:STANDARD
END:VTIMEZONE
BEGIN:VTIMEZONE
TZID:Europe/Athens
BEGIN:DAYLIGHT
TZOFFSETFROM:+0200
TZOFFSETTO:+0300
TZNAME:EEST
DTSTART:20240331T010000
END:DAYLIGHT
BEGIN:STANDARD
TZOFFSETFROM:+0300
TZOFFSETTO:+0200
TZNAME:EET
DTSTART:20241027T010000
END:STANDARD
BEGIN:DAYLIGHT
TZOFFSETFROM:+0200
TZOFFSETTO:+0300
TZNAME:EEST
DTSTART:20250330T010000
END:DAYLIGHT
BEGIN:STANDARD
TZOFFSETFROM:+0300
TZOFFSETTO:+0200
TZNAME:EET
DTSTART:20251026T010000
END:STANDARD
BEGIN:DAYLIGHT
TZOFFSETFROM:+0200
TZOFFSETTO:+0300
TZNAME:EEST
DTSTART:20260329T010000
END:DAYLIGHT
BEGIN:STANDARD
TZOFFSETFROM:+0300
TZOFFSETTO:+0200
TZNAME:EET
DTSTART:20261025T010000
END:STANDARD
END:VTIMEZONE
BEGIN:VEVENT
DTSTART;TZID=UTC:20250114T213000
DTEND;TZID=UTC:20250114T230000
DTSTAMP:20260422T141750
CREATED:20241220T083503Z
LAST-MODIFIED:20250729T091456Z
UID:14017-1736890200-1736895600@ease.gr
SUMMARY:Espresso for the Mind | Digital Leadership
DESCRIPTION:Events		\n				\n				\n					\n		\n							\n		\n				\n						\n					\n			\n								\n				\n			ΝΕΑ ΤΑΙΝΙΑ | Avant Premiere για τα μέλη της ΕΑΣΕ!\n		\n				\n				\n				\n							Η Ομάδα Δράσης “The Happenings Hub” διοργανώνει την Avant Premiere της ταινίας “The Devil Wears Prada II”\, στις Gold Class αίθουσες των Village Cinemas\, στο The Mall Athens. Η εκδήλωση απευθύνεται στα μέλη της ΕΑΣΕ και τους/τις συνοδούς τους. Περιορισμένος αριθμός θέσεων διατίθεται με σειρά προτεραιότητας. 						\n				\n					\n		\n				\n			\n								\n				\n			The Devil wears Prada II\n		\n				\n				\n				\n			30/04/202618:00 - 20:00 		\n				\n				\n				\n			17:00 Networking		\n				\n				\n				\n			Village Cinemas\, The Mall Athens
URL:https://ease.gr/event/espresso-for-the-mind-digital-leadership/
LOCATION:Online
CATEGORIES:Διαδικτυακές συναντήσεις
ATTACH;FMTTYPE=image/png:https://ease.gr/wp-content/uploads/2024/12/espresso_THUMBNAIL_532X328.png
END:VEVENT
BEGIN:VEVENT
DTSTART;TZID=Europe/Athens:20250115T090000
DTEND;TZID=Europe/Athens:20250115T120000
DTSTAMP:20260422T141751
CREATED:20240916T140147Z
LAST-MODIFIED:20251013T155658Z
UID:12977-1736931600-1736942400@ease.gr
SUMMARY:Private tour at Loumidis' production line
DESCRIPTION:Events		\n				\n				\n					\n		\n							\n		\n				\n						\n					\n			\n								\n				\n			ΝΕΑ ΤΑΙΝΙΑ | Avant Premiere για τα μέλη της ΕΑΣΕ!\n		\n				\n				\n				\n							Η Ομάδα Δράσης “The Happenings Hub” διοργανώνει την Avant Premiere της ταινίας “The Devil Wears Prada II”\, στις Gold Class αίθουσες των Village Cinemas\, στο The Mall Athens. Η εκδήλωση απευθύνεται στα μέλη της ΕΑΣΕ και τους/τις συνοδούς τους. Περιορισμένος αριθμός θέσεων διατίθεται με σειρά προτεραιότητας. 						\n				\n					\n		\n				\n			\n								\n				\n			The Devil wears Prada II\n		\n				\n				\n				\n			30/04/202618:00 - 20:00 		\n				\n				\n				\n			17:00 Networking		\n				\n				\n				\n			Village Cinemas\, The Mall Athens
URL:https://ease.gr/event/private-tour-at-loumidis-production/
LOCATION:Εργοστάσιο Λουμίδη\, Οινόφυτα\, 55ο χλμ Παλαιάς Εθνικής Οδού Αθηνών - Λαμίας\, Οινόφυτα\, Βοιωτία\, 32009\, Greece
CATEGORIES:Συναντήσεις ηγεσίας
ATTACH;FMTTYPE=image/png:https://ease.gr/wp-content/uploads/2024/09/loumidis_THUMBNAIL_532X328.png
END:VEVENT
BEGIN:VEVENT
DTSTART;TZID=UTC:20250129T193000
DTEND;TZID=UTC:20250129T230000
DTSTAMP:20260422T141751
CREATED:20241223T124837Z
LAST-MODIFIED:20250808T132409Z
UID:14079-1738179000-1738191600@ease.gr
SUMMARY:Κοπή Πίτας ΕΑΣΕ 2025
DESCRIPTION:Events		\n				\n				\n					\n		\n							\n		\n				\n						\n					\n			\n								\n				\n			ΝΕΑ ΤΑΙΝΙΑ | Avant Premiere για τα μέλη της ΕΑΣΕ!\n		\n				\n				\n				\n							Η Ομάδα Δράσης “The Happenings Hub” διοργανώνει την Avant Premiere της ταινίας “The Devil Wears Prada II”\, στις Gold Class αίθουσες των Village Cinemas\, στο The Mall Athens. Η εκδήλωση απευθύνεται στα μέλη της ΕΑΣΕ και τους/τις συνοδούς τους. Περιορισμένος αριθμός θέσεων διατίθεται με σειρά προτεραιότητας. 						\n				\n					\n		\n				\n			\n								\n				\n			The Devil wears Prada II\n		\n				\n				\n				\n			30/04/202618:00 - 20:00 		\n				\n				\n				\n			17:00 Networking		\n				\n				\n				\n			Village Cinemas\, The Mall Athens
URL:https://ease.gr/event/kopi-pitas-ease-2025/
LOCATION:Αίγλη Ζαππείου
CATEGORIES:Κοινωνικές εκδηλώσεις
ATTACH;FMTTYPE=image/png:https://ease.gr/wp-content/uploads/2025/01/pita_THUMBNAIL_532X328.png
END:VEVENT
END:VCALENDAR