BEGIN:VCALENDAR
VERSION:2.0
PRODID:-//EASE - ECPv6.15.18//NONSGML v1.0//EN
CALSCALE:GREGORIAN
METHOD:PUBLISH
X-ORIGINAL-URL:https://ease.gr
X-WR-CALDESC:Events for EASE
REFRESH-INTERVAL;VALUE=DURATION:PT1H
X-Robots-Tag:noindex
X-PUBLISHED-TTL:PT1H
BEGIN:VTIMEZONE
TZID:UTC
BEGIN:STANDARD
TZOFFSETFROM:+0000
TZOFFSETTO:+0000
TZNAME:UTC
DTSTART:20240101T000000
END:STANDARD
END:VTIMEZONE
BEGIN:VEVENT
DTSTART;TZID=UTC:20250505T170000
DTEND;TZID=UTC:20250505T200000
DTSTAMP:20260422T081845
CREATED:20250403T101042Z
LAST-MODIFIED:20250808T131823Z
UID:14570-1746464400-1746475200@ease.gr
SUMMARY:Connecting Leaders in Northern Greece
DESCRIPTION:Events		\n				\n				\n					\n		\n							\n		\n				\n						\n					\n			\n								\n				\n			ΝΕΑ ΤΑΙΝΙΑ | Avant Premiere για τα μέλη της ΕΑΣΕ!\n		\n				\n				\n				\n							Η Ομάδα Δράσης “The Happenings Hub” διοργανώνει την Avant Premiere της ταινίας “The Devil Wears Prada II”\, στις Gold Class αίθουσες των Village Cinemas\, στο The Mall Athens. Η εκδήλωση απευθύνεται στα μέλη της ΕΑΣΕ και τους/τις συνοδούς τους. Περιορισμένος αριθμός θέσεων διατίθεται με σειρά προτεραιότητας. 						\n				\n					\n		\n				\n			\n								\n				\n			The Devil wears Prada II\n		\n				\n				\n				\n			30/04/202618:00 - 20:00 		\n				\n				\n				\n			17:00 Networking		\n				\n				\n				\n			Village Cinemas\, The Mall Athens
URL:https://ease.gr/event/connecting-leaders-in-northern-greece/
LOCATION:Mediterranean Palace\, Σαλαμίνος 3\, Θεσσαλονίκη\, 546 26\, Greece
CATEGORIES:Κοινωνικές εκδηλώσεις
ATTACH;FMTTYPE=image/jpeg:https://ease.gr/wp-content/uploads/2025/04/thessaloniki_THUMBNAIL_532X328.jpg
END:VEVENT
BEGIN:VEVENT
DTSTART;TZID=UTC:20250506T093000
DTEND;TZID=UTC:20250506T110000
DTSTAMP:20260422T081845
CREATED:20250408T064946Z
LAST-MODIFIED:20250729T090121Z
UID:14669-1746523800-1746529200@ease.gr
SUMMARY:Better presentations lead to better decisions
DESCRIPTION:Events		\n				\n				\n					\n		\n							\n		\n				\n						\n					\n			\n								\n				\n			ΝΕΑ ΤΑΙΝΙΑ | Avant Premiere για τα μέλη της ΕΑΣΕ!\n		\n				\n				\n				\n							Η Ομάδα Δράσης “The Happenings Hub” διοργανώνει την Avant Premiere της ταινίας “The Devil Wears Prada II”\, στις Gold Class αίθουσες των Village Cinemas\, στο The Mall Athens. Η εκδήλωση απευθύνεται στα μέλη της ΕΑΣΕ και τους/τις συνοδούς τους. Περιορισμένος αριθμός θέσεων διατίθεται με σειρά προτεραιότητας. 						\n				\n					\n		\n				\n			\n								\n				\n			The Devil wears Prada II\n		\n				\n				\n				\n			30/04/202618:00 - 20:00 		\n				\n				\n				\n			17:00 Networking		\n				\n				\n				\n			Village Cinemas\, The Mall Athens
URL:https://ease.gr/event/better-presentations-lead-to-better-decisions/
LOCATION:Online
CATEGORIES:Διαδικτυακές συναντήσεις
ATTACH;FMTTYPE=image/jpeg:https://ease.gr/wp-content/uploads/2025/04/espresso3_THUMBNAIL_532X328.jpg
END:VEVENT
BEGIN:VEVENT
DTSTART;TZID=UTC:20250511T100000
DTEND;TZID=UTC:20250511T150000
DTSTAMP:20260422T081845
CREATED:20250530T144417Z
LAST-MODIFIED:20250808T131723Z
UID:15283-1746957600-1746975600@ease.gr
SUMMARY:Trekking & γεύμα στην Πάρνηθα
DESCRIPTION:Events		\n				\n				\n					\n		\n							\n		\n				\n						\n					\n			\n								\n				\n			ΝΕΑ ΤΑΙΝΙΑ | Avant Premiere για τα μέλη της ΕΑΣΕ!\n		\n				\n				\n				\n							Η Ομάδα Δράσης “The Happenings Hub” διοργανώνει την Avant Premiere της ταινίας “The Devil Wears Prada II”\, στις Gold Class αίθουσες των Village Cinemas\, στο The Mall Athens. Η εκδήλωση απευθύνεται στα μέλη της ΕΑΣΕ και τους/τις συνοδούς τους. Περιορισμένος αριθμός θέσεων διατίθεται με σειρά προτεραιότητας. 						\n				\n					\n		\n				\n			\n								\n				\n			The Devil wears Prada II\n		\n				\n				\n				\n			30/04/202618:00 - 20:00 		\n				\n				\n				\n			17:00 Networking		\n				\n				\n				\n			Village Cinemas\, The Mall Athens
URL:https://ease.gr/event/trekking/
LOCATION:Πάρνηθα\, Greece
CATEGORIES:Κοινωνικές εκδηλώσεις
ATTACH;FMTTYPE=image/png:https://ease.gr/wp-content/uploads/2025/05/Trekking_11.5.25_invitation-Αντιγραφή2.png
END:VEVENT
BEGIN:VEVENT
DTSTART;TZID=UTC:20250515T093000
DTEND;TZID=UTC:20250515T110000
DTSTAMP:20260422T081845
CREATED:20250429T074204Z
LAST-MODIFIED:20250729T090000Z
UID:14947-1747301400-1747306800@ease.gr
SUMMARY:Beyond Compliance: Turning NIS 2 into a strategic advantage
DESCRIPTION:Events		\n				\n				\n					\n		\n							\n		\n				\n						\n					\n			\n								\n				\n			ΝΕΑ ΤΑΙΝΙΑ | Avant Premiere για τα μέλη της ΕΑΣΕ!\n		\n				\n				\n				\n							Η Ομάδα Δράσης “The Happenings Hub” διοργανώνει την Avant Premiere της ταινίας “The Devil Wears Prada II”\, στις Gold Class αίθουσες των Village Cinemas\, στο The Mall Athens. Η εκδήλωση απευθύνεται στα μέλη της ΕΑΣΕ και τους/τις συνοδούς τους. Περιορισμένος αριθμός θέσεων διατίθεται με σειρά προτεραιότητας. 						\n				\n					\n		\n				\n			\n								\n				\n			The Devil wears Prada II\n		\n				\n				\n				\n			30/04/202618:00 - 20:00 		\n				\n				\n				\n			17:00 Networking		\n				\n				\n				\n			Village Cinemas\, The Mall Athens
URL:https://ease.gr/event/beyond-compliance-turning-nis-2-into-a-strategic-advantage/
LOCATION:Online
CATEGORIES:Διαδικτυακές συναντήσεις
ATTACH;FMTTYPE=image/jpeg:https://ease.gr/wp-content/uploads/2025/04/pulsing_THUMBNAIL_532X328.jpg
END:VEVENT
BEGIN:VEVENT
DTSTART;TZID=UTC:20250524T103000
DTEND;TZID=UTC:20250524T203000
DTSTAMP:20260422T081845
CREATED:20250929T174437Z
LAST-MODIFIED:20250929T174613Z
UID:16783-1748082600-1748118600@ease.gr
SUMMARY:36ο Συνέδριο Ηγεσίας
DESCRIPTION:Events		\n				\n				\n					\n		\n							\n		\n				\n						\n					\n			\n								\n				\n			ΝΕΑ ΤΑΙΝΙΑ | Avant Premiere για τα μέλη της ΕΑΣΕ!\n		\n				\n				\n				\n							Η Ομάδα Δράσης “The Happenings Hub” διοργανώνει την Avant Premiere της ταινίας “The Devil Wears Prada II”\, στις Gold Class αίθουσες των Village Cinemas\, στο The Mall Athens. Η εκδήλωση απευθύνεται στα μέλη της ΕΑΣΕ και τους/τις συνοδούς τους. Περιορισμένος αριθμός θέσεων διατίθεται με σειρά προτεραιότητας. 						\n				\n					\n		\n				\n			\n								\n				\n			The Devil wears Prada II\n		\n				\n				\n				\n			30/04/202618:00 - 20:00 		\n				\n				\n				\n			17:00 Networking		\n				\n				\n				\n			Village Cinemas\, The Mall Athens
URL:https://ease.gr/event/36o-synedrio-igesias-2/
LOCATION:Μέγαρο Μουσικής Αθηνών
CATEGORIES:Συνέδρια Ηγεσίας
ATTACH;FMTTYPE=image/png:https://ease.gr/wp-content/uploads/2025/04/Thumbnail-36th-ACEO-Congress.png
END:VEVENT
END:VCALENDAR